Workbook

Sheet Цели финансирования
B1: Что сейчас?
B4: Проблема | C4: Следствие | D4: Причина
B5: Отсутствие средств для: • Теста идей и гипотез • Найма компетентных сотрудников • Масштабирования путем открытия новых точек касания и пр. | C5: Проект "стоит на месте" без видимых движений | D5: Вся прибыль уходит на зарплату тренера и оплату вспомогающих сервисов
C6: Невозможность развития и улучшения продукта
B9: Цели и Планы
B12: Цели Финансирования | C12: Планы
B13: 1. Обеспечить плацдарм для быстрого и качественного развития | C13: 1.Стабилизация воронки продаж, улучшение рекламы за счет грамотной таргетинговой рекламы
B14: 2. Улучшить качество продукта | C14: 2. Найм отдельного тренера для Индивидуальной программы
B15: 3. Наладить бизнес процессы внутри проекта | C15: 3. Освоение новых точек касания: Instagram, Facebook, Лендинг
B16: 4. Масштабироваться на ряд новых платформ | C16: 4. Найм менеджера по продажам
B17: 5. Протестировать и внедрить новые продукты | C17: 5. Новая площадка для проведения проекта - Getcourse, за счет которой улучшиться взаимодействие клиента с проектом
C18: 7. Структуризация и автоматизация процессов
C19: 8. Расширение продуктовой матрицы. Добавление продуктов по психологии; для мужчин: сушка, накачка; для женщин: сушка, накачка; и другие
C20: 9. Договориться о партнерстве с производителями правильного питания для продажи их товаров нашим клиентам, а также с фитнес-задами и т.д - кроссмаркетинг
C21: 10. Создание собственной платформы под курс: приложение + сайт для работы продуктов
C22: 11. Выход в офлайн. За счет лояльной аудитории создать фитнес центры со схожей моделью Like'а. Таким образом, получится два канала продаж: 1. Онлайн продукты; 2. Офлайн занятия в тренажерном зале. Например, для участников онлайн проекта будет скидка на абонемент в фитнес-зал и наоборот.

Sheet Бизнес-Модель
A1: Бизнес Модель
A3: В колонки №1, 3, 4, 6, 8 текст не вместился, нажмите два раза по выбранной колонке для прочтения полного экземляра
A4: 7. Ключевые партнеры | B4: 8. Ключевые действия | C4: 1. Ключевые ценности | E4: 4. Взаимоотношения с клиентами | F4: 2. Сегменты клиентов
A5: Партнеры На данный момент партнеров нет. В будущем планируется партнерство с поставщиком питания(всевозможные фитнес-батончики, сухофрукты и т.д), а также с владельцами фитнес-залов с целью кросс маркетинга. В первом случае, мотивация - получение доп.прибыли за счет продаж здорового питания. Во втором, дополнительный и бесплатный канал привлечения клиентов. | B5: Ключевые действия 0. Найм “заряженного” персонала для реализации цели и ценностей. 1. Грамотный маркетинг для привлечения целевой аудитории 2. Структуризация и стабилизация воронки продаж 3. Вести клиентов по воронке с помощью CRM системы 4. Регулярно доказывать свою эффективность с помощью результатов участников. 5. Активно использовать новые точки касаний(различные соц.сети, лендинг и т.д) 6. Постоянно улучшать продукт за счет сбора NPS клиентов и их обратной связи | C5: Решаемые проблемы а) Помогаем людям избавиться от лишнего веса б) Учим грамотно следить за своим питанием в) прививаем привычку заниматься спортом, стараемся популяризировать спорт для масс г) Укрепляем здоровье и продлеваем жизнь клиентам Наши главные ценности: Первое. Каждый может то, чего он хочет. И точка. Ты можешь сделать то, что захочешь. Если не получилось - значит недостаточно хочешь. Второе. Саморазвитие и стремление к лучшему. Занимайся собой, вдохновляй окружающих! Третье. Упорство и дисциплина. Упади 500 раз, встань 500 раз - только так можно дойти до вершины. Будь готов к трудностям и встречай их полной грудью! Четвертое. Взаимопомощь. Кто-то в мире нуждается в твоей помощи, помоги ему. Не требуй ничего взамен, ты сделал человеку хорошо, ты молодец. Пятое. Открытость. Будь открыт новым возможностям и не упускай шанса изменить мир. Никогда не закрывайся от кого-то. Говори только правду и ничего кроме правды. Что ценного мы несем: Мы несем результат, клиенты должны почувствовать, как изменилась их жизнь до проекта и после, насколько они изменились внешне и внутренне. Какие услуги мы можем предложить Данный момент: 1. Онлайн марафон похудения: Это: 4 недели непрерывной работы над собой под контролем эксперта в закрытой группе Вконтакте. Участники получают общие программы питания, тренировок, а также цель на каждый день, контроль и поддержку куратора, море полезной информации о питании, тренировках и похудении в целом. За счет этого они худеют на 7-10кг за месяц, улучшают свое здоровье, привыкают к правильному питанию, понимают значимость спорта для своего организма и активно начинают им заниматься в свое удовольствие. Стоимость: 2 варианта участия: - 1 неделя - 500р - 4 недели - 990р 2. Индивидуальная программа Это: специально составленная программа питания и тренировок под индивидуальные особенности и предпочтения клиента, а также подобранная под его интересы и цели полезная информация. Стоимость: 2990р - для участников марафона 4990р - для обычных пользователей Для реализации обоих продуктов используется закрытая группа Вконаткте, данный подход отличается большим функционалом(обсуждения для отчетности и контроля. рассылки для донесения участникам программ питания и тренировок, целей на день и т.д) и удобством, т.к весь материал находится в одном месте внутри самой большой соц.сети России. | E5: 1. Осведомленностью Мы повышаем осведомленность о продуктах и услугах наших продуктов с помощью рекламы в Вконтакте, рассылок по базе клиентов и постов в соц.сетях. 2. Оценка. Для оценки нашего продукта мы просим участников заполнить анкету обратной связи, где они отвечают на вопросы о проекте. 3. Покупка: Мы позволяем клиентам оплатить услугу удобным способом из используемых нами: а) Яндекс.Деньги б) Банк.карта в) Qiwi кошелек г) Webmoney 4. Доставка ценности для клиента: После оплаты мы высылаем клиенты ссылку на закрытую группу, где проходит сам проект, а также полезный подарок на выбор: Рекомендации “Как худеть в зале/дома” или “Как набрать мышечную массу” 5. После продажи мы обеспечиваем ценность самим продуктом, а также дополнительными акциями и бонусами для участников. | F5: Портрет клиента: Кто наш целевой клиент: Женщина 25-45 лет Имеет избыточный вес/не нравится сама себе/хочет поменяться Возможно, есть ребенок и после родов произошел набор веса. Были опробованы многие диеты, но вес постоянно возвращался. Она хочет быстро похудеть несложным способом, но не знаем каким именно. Из-за тяжелого графика не может уделять время самой себе и ищет способ решения проблемы без фитнес зала и прочего.
B7: 6. Ключевые ресурсы | E7: 3. Каналы сбыта
B8: 1. Персонал: необходимы эксперты, подходящие под ценности проекта(см.№1 ”Ключевые ценности”). Это люди разбирающиеся в фитнес сфере, диетологии, открытые к новому, готовые помогать и постоянно развиваться. Они знают, что несут окружающим пользу и получают от этого удовольствие! 2. Финансы для: • Выплат заработных плат персоналу • Тестирования новых методов ведения проекта(площадки, сервисы и т.д) • Продвижения проекта(маркетинг и т.д) • Тестирования новых продуктов и проч. 3. Технологии • Платформа для ведения проекта • Сервисы рассылок(Email и сообщений Вконтакте) | E8: Каналы сбыта: Каналы сбыта через которые клиенты хотят получать наши ценности: 1. Сайт 2. Соц.сети(Вконтакте, Instagram, Facebook, Youtube) 3. Офлайн точки. Каналы сбыта на данный момент(Ссылки приведены ниже таблицы): 1. Вконтакте - основная точка касания - генерирует 98% продаж. 2. Instagram - тестовая площадка, генерирует 2% продаж. Продажи: Продажи проходят в личной переписке с клиентом, в которой повествуется суть проекта. Upsale - для участников марафона похудения скидка 40% на Индивидуальную программу Пожизненная ценность -повторное участие в марафоне со скидкой в 20% + специальные акции только для участников.
A10: 9. Структура расходов | D10: 5. Источники доходов
A11: На данный момент расходы следующие: 1. Реклама - 10тыс. в неделю 2. Оплата работы куратора - 5,5тыс.р/мес 3. Оплата сервисов автоматических рассылок 4. Тестирование новых площадок развития, структуризация воронки и т.д - 3-5тыс./мес | D11: Источник доходов Главный источник доходов - продажа участия в марафоне на месяц, это генерирует 85% выручки, остальные 15% - это Продажа Индивидуальной программы(5-6%) и первая неделя в марафоне(9-10%)! Клиент платит за: • Конкретные действия для похудения(программу питания, курс тренировок и прочее) • Работу эксперта (поддержка, мотивация, советы, корректировка программы и т.д) • Мотивацию к действию за счет успехов единомышленниц в марафоне и поддержки куратора
A19: Ссылки на проект
A21: Соц. сеть | B21: Ссылка
A22: Вконтакте | B22: https://vk.com/makemeone
A23: Instagram | B23: https://www.instagram.com/makemeone_/

Sheet Команда
A1: КОМАНДА
A3: Должность, обязанности, зона ответственности | B3: ФИО | C3: Сильные стороны, компетенции | D3: Слабые стороны | E3: Деятельность
A4: Руководитель | B4: Матвейцевский Александр Сергеевич | C4: • Целеустремленность. Не готов отступаться от намеченного. • рациональность. Всегда стараюсь не смотреть на эмоциональную составляющую выбора, а ориентировать на данные. • Трудолюбивый. Почему бы не поработать?! Весь день занимаюсь чем-то полезным: 70% времени трачу на работу, еще 20% на чтение и домашние мелочи, остальные 10% на отдых • Обожаю пробовать что-то новое. Экспериментирую, пытаюсь делать то, что раньше не делал. Это стимулирует и воодушевляет. • Стремлюсь к совершенству. Мне свойственно переделывать то, что переделывал вчера, чтобы стало еще лучше. • Умею жертвовать. Мне кажется, это серьезное качество. Если я знаю, что поход в кинотеатр, например, принесет мне удовольствие, а пара лишних часов работы - выполнение поставленных задач, я выбираю второе. Считаю, что данное качество и отличает успешного человека от неуспешного: умение жертвовать тем, что принесет удовольствие, для того, что принесет пользу. • Пытаюсь хвататься за предоставленный шанс с первой попытки. Либо ты с первого раза усваиваешь "урок жизни", либо он будет повторяться до тех пор, пока ты его не усвоишь | D4: • Доверчивый. Скорее, это +/-, иногда можно неплохо обжечься • Могу переборщить с "переделыванием". Т.е не собрал достаточной информации для вывода, а уже поменял структуру • Не такой общительный, как хотелось бы. За счет like'a пытаюсь с этим бороться: хожу на мероприятия, на нетворкинг, отвечаю на вопросы, рассказываю о себе и т.д • Люблю тишину, иногда это доходит до абсурда.При фоне какого-то звука не могу нормально работать/читать, поэтому часто сижу в берушах | E4: Смог выстроить действующий проект. Контроль за выполнением работы сотрудника. Веду общение с клиентами и довожу продажу до конца Оформляю посты/Статьи Заказываю рекламу В общем, всё что не связано с продуктом в виде программ питания, тренировок и кураторства, делаю я.
A5: Тренер/куратор | B5: Оксана Медведицкова | C5: 1. Трудолюбивая 2. Активная 3. Добродушная и открытая 4. Легко учиться и усваивает новое | D5: За время проекта слабых сторон не нашел. Лишь отсутсвие "корочек" по сфере деятельности, т.к она "самоучка" | E5: На протяжении 4-х месяцев работала с клиентами, доводила их до результата, советовала и корректировала их программу, записывала видео тренировки и оформляла группы под новые наборы марафоны.

Sheet 1. Детализация инвестиций
A1: ДЕТАЛИЗАЦИЯ ИНВЕСТИЦИЙ
A3: Первоначальные инвестиции (статьи расходов) | E3: Постоянные затраты
A4: 1 | B4: Маркетинг | C4: =SUM(C5:C6) -> 35000 | E4: 1. | F4: Маркетинг | G4: 40000
B5: Маркетинговые исследования, предзапусковая кампания | C5: 15000 | E5: 2. | F5: ФОТ (Фонд оплаты труда) только фикс. часть | G5: =G18 -> 79000
B6: Исследования воронки продаж | C6: 20000 | E6: 3. | F6: Программное обеспечение | G6: =G25 -> 13500
A7: 2 | B7: Площадки развития/размещения офиса | C7: =SUM(C8) -> 20000 | E7: 4. | F7: Коворкинг/Офис | G7: 7000
B8: Лендинг | C8: 20000 | E8: 5. | F8: Другое | G8: 0
A9: 3 | B9: Продукт | C9: =SUM(C10) -> 10000 | E9: Итого | G9: =SUM(G4:G8) -> 139500
B10: Снять зал, нанять фотографа - Для качественной записи тренировок | C10: 10000
A11: 5 | B11: Административные | C11: =SUM(C12) -> 2000 | E11: Детализация ФОТ
B12: Регистрация предприятия | C12: 2000 | E12: 1. | F12: Тренер для марафона | G12: 8000
A13: 6 | B13: Другое | C13: =C14 -> 225000 | E13: 2. | F13: Руководитель | G13: 10000
B14: "Подушка безопастности" на первые месяцы | C14: 225000 | E14: 3. | F14: Тренер для Индивидуальных программ | G14: 10000
A15: Итого | C15: =C4+C7+C9+C11+C13 -> 292000 | E15: 4. | F15: Таргетолог | G15: 20000
E16: 5. | F16: Менеджер по продажам | G16: 25000
E17: 6 | F17: Ведение соц.сетей + личный помощник | G17: 6000
E18: Итого | G18: =SUM(G10:G17) -> 79000
E20: Детализация ПО
E21: 1. | F21: CRM | G21: 4000
E22: 2. | F22: Рассылки + чат-боты | G22: 3000
E23: 3. | F23: Getcourse | G23: 4000
E24: 4 | F24: Точка Банк - отчетность | G24: 2500
E25: Итого | G25: =SUM(G21:G24) -> 13500

Sheet 2. Финансовая модель
A1: ФИНАНСОВАЯ МОДЕЛЬ
A3: Период | G3: Март | H3: Апрель | I3: Май | J3: Июнь | K3: Июль | L3: Август | M3: Сентябрь | N3: Октябрь | O3: Ноябрь | P3: Декабрь | Q3: Январь | R3: Февраль | S3: 1-й год | T3: Март | U3: Апрель | V3: Май | W3: Июнь | X3: Июль | Y3: Август | Z3: Сентябрь | AA3: Октябрь | AB3: Ноябрь | AC3: Декабрь | AD3: Январь | AE3: Февраль | AF3: 2-й год | AG3: Март | AH3: Апрель | AI3: Май | AJ3: Июнь | AK3: Июль | AL3: Август | AM3: Сентябрь | AN3: Октябрь | AO3: Ноябрь | AP3: Декабрь | AQ3: Январь | AR3: Февраль | AS3: 3-й год | AT3: Итого
A4: I. | B4: Инвестиции | F4: =SUM(F5:F9) -> 292000
B5: Маркетинг | F5: ='1. Детализация инвестиций'!C4 -> 35000
B6: Площадки развития | F6: ='1. Детализация инвестиций'!C7 -> 20000
B7: Продукт | F7: ='1. Детализация инвестиций'!C9 -> 10000
B8: Административные | F8: ='1. Детализация инвестиций'!C11 -> 2000
B9: Другое | F9: 225000
A10: II. | B10: Доходы | G10: =G11+G14 -> 96950 | H10: =H11+H14 -> 187820 | I10: =I11+I14 -> 251930 | J10: =J11+J14 -> 277330 | K10: =K11+K14 -> 301710 | L10: =L11+L14 -> 317520 | M10: =M11+M14 -> 523210 | N10: =N11+N14 -> 581530 | ... R10: =R11+R14 -> 719682 | S10: =SUM(G10:R10) -> 5004652 | T10: =T11+T14 -> 963340 | U10: =U11+U14 -> 1192590 | V10: =V11+V14 -> 1182150 | W10: =W11+W14 -> 901990 | X10: =X11+X14 -> 939990 | Y10: =Y11+Y14 -> 993070 | Z10: =Z11+Z14 -> 1137900 | AA10: =AA11+AA14 -> 1176310 | ... AE10: =AE11+AE14 -> 1589550 | AF10: =SUM(T10:AE10) -> 13033250 | AG10: =AG11+AG14 -> 1792210 | AH10: =AH11+AH14 -> 2207830 | AI10: =AI11+AI14 -> 2241890 | AJ10: =AJ11+AJ14 -> 1820820 | AK10: =AK11+AK14 -> 1946580 | AL10: =AL11+AL14 -> 2129650 | AM10: =AM11+AM14 -> 2381380 | AN10: =AN11+AN14 -> 2693040 | ... AR10: =AR11+AR14 -> 3380080 | AS10: =SUM(AG10:AR10) -> 28558260 | AT10: =S10+AF10+AS10 -> 46596162
A11: 1. | B11: Марафон основа 4 недели | G11: =G12*G13 -> 83580 | H11: =H12*H13 -> 141290 | I11: =I12*I13 -> 195020 | J11: =J12*J13 -> 210940 | K11: =K12*K13 -> 234820 | L11: =L12*L13 -> 254720 | M11: =M12*M13 -> 415610 | N11: =N12*N13 -> 466440 | ... R11: =R12*R13 -> 486772 | S11: =SUM(G11:R11) -> 3822732 | T11: =T12*T13 -> 618930 | U11: =U12*U13 -> 687700 | V11: =V12*V13 -> 744510 | W11: =W12*W13 -> 615940 | X11: =X12*X13 -> 630890 | Y11: =Y12*Y13 -> 663780 | Z11: =Z12*Z13 -> 732550 | AA11: =AA12*AA13 -> 777400 | ... AE11: =AE12*AE13 -> 986700 | AF11: =SUM(T11:AE11) -> 8458710 | AG11: =AG12*AG13 -> 1055470 | AH11: =AH12*AH13 -> 1130220 | AI11: =AI12*AI13 -> 1207960 | AJ11: =AJ12*AJ13 -> 1294670 | AK11: =AK12*AK13 -> 1384370 | AL11: =AL12*AL13 -> 1480050 | AM11: =AM12*AM13 -> 1584700 | AN11: =AN12*AN13 -> 1695330 | ... AR11: =AR12*AR13 -> 2221570 | AS11: =SUM(AG11:AR11) -> 18887830 | AT11: =S11+AF11+AS11 -> 31169272
B12: количество продаж | G12: 42 | H12: 71 | I12: 98 | J12: 106 | K12: 118 | L12: 128 | M12: 139 | N12: 156 | O12: 171 | P12: 127 | Q12: 148 | R12: =Q12*1.1 -> 162.8 | S12: =SUM(G12:R12) -> 1466.8 | T12: 207 | U12: 230 | V12: 249 | W12: 206 | X12: 211 | Y12: 222 | Z12: 245 | AA12: 260 | AB12: 256 | AC12: 156 | AD12: 257 | AE12: 330 | AF12: =SUM(T12:AE12) -> 2829 | AG12: 353 | AH12: 378 | AI12: 404 | AJ12: 433 | AK12: 463 | AL12: 495 | AM12: 530 | AN12: 567 | AO12: 607 | AP12: 649 | AQ12: 695 | AR12: 743 | AS12: =SUM(AG12:AR12) -> 6317 | AT12: =S12+AF12+AS12 -> 10612.8
B13: цена 1 ед. | G13: 1990 | H13: 1990 | I13: 1990 | J13: 1990 | K13: 1990 | L13: 1990 | M13: 2990 | N13: 2990 | O13: 2990 | P13: 2990 | Q13: 2990 | R13: 2990 | S13: =SUM(G13:R13) -> 29880 | T13: 2990 | U13: 2990 | V13: 2990 | W13: 2990 | X13: 2990 | Y13: 2990 | Z13: 2990 | AA13: 2990 | AB13: 2990 | AC13: 2990 | AD13: 2990 | AE13: 2990 | AF13: =SUM(T13:AE13) -> 35880 | AG13: 2990 | AH13: 2990 | AI13: 2990 | AJ13: 2990 | AK13: 2990 | AL13: 2990 | AM13: 2990 | AN13: 2990 | AO13: 2990 | AP13: 2990 | AQ13: 2990 | AR13: 2990 | AS13: =SUM(AG13:AR13) -> 35880 | AT13: =S13+AF13+AS13 -> 101640
A14: 2. | B14: Сопутствующая деятельность (доп. продукты), в т.ч.: | G14: =G15+G18+G21+G24+G27+G30 -> 13370 | H14: =H15+H18+H21+H24+H27+H30 -> 46530 | I14: =I15+I18+I21+I24+I27+I30 -> 56910 | J14: =J15+J18+J21+J24+J27+J30 -> 66390 | K14: =K15+K18+K21+K24+K27+K30 -> 66890 | L14: =L15+L18+L21+L24+L27+L30 -> 62800 | M14: =M15+M18+M21+M24+M27+M30 -> 107600 | N14: =N15+N18+N21+N24+N27+N30 -> 115090 | ... R14: =R15+R18+R21+R24+R27+R30 -> 232910 | S14: =SUM(G14:R14) -> 1181920 | T14: =T15+T18+T21+T24+T27+T30 -> 344410 | U14: =U15+U18+U21+U24+U27+U30 -> 504890 | V14: =V15+V18+V21+V24+V27+V30 -> 437640 | W14: =W15+W18+W21+W24+W27+W30 -> 286050 | X14: =X15+X18+X21+X24+X27+X30 -> 309100 | Y14: =Y15+Y18+Y21+Y24+Y27+Y30 -> 329290 | Z14: =Z15+Z18+Z21+Z24+Z27+Z30 -> 405350 | AA14: =AA15+AA18+AA21+AA24+AA27+AA30 -> 398910 | ... AE14: =AE15+AE18+AE21+AE24+AE27+AE30 -> 602850 | AF14: =SUM(T14:AE14) -> 4574540 | AG14: =AG15+AG18+AG21+AG24+AG27+AG30 -> 736740 | AH14: =AH15+AH18+AH21+AH24+AH27+AH30 -> 1077610 | AI14: =AI15+AI18+AI21+AI24+AI27+AI30 -> 1033930 | AJ14: =AJ15+AJ18+AJ21+AJ24+AJ27+AJ30 -> 526150 | AK14: =AK15+AK18+AK21+AK24+AK27+AK30 -> 562210 | AL14: =AL15+AL18+AL21+AL24+AL27+AL30 -> 649600 | AM14: =AM15+AM18+AM21+AM24+AM27+AM30 -> 796680 | AN14: =AN15+AN18+AN21+AN24+AN27+AN30 -> 997710 | ... AR14: =AR15+AR18+AR21+AR24+AR27+AR30 -> 1158510 | AS14: =SUM(AG14:AR14) -> 9670430 | AT14: =S14+AF14+AS14 -> 15426890
B15: 1 Неделя марафона | G15: =G16*G17 -> 900 | H15: =H16*H17 -> 900 | I15: =I16*I17 -> 1800 | J15: =J16*J17 -> 1800 | K15: =K16*K17 -> 1800 | L15: =L16*L17 -> 2700 | M15: =M16*M17 -> 4020 | N15: =N16*N17 -> 4020 | ... R15: =R16*R17 -> 4020 | S15: =SUM(G15:R15) -> 34020 | T15: =T16*T17 -> 5360 | U15: =U16*U17 -> 6700 | V15: =V16*V17 -> 6700 | W15: =W16*W17 -> 4020 | X15: =X16*X17 -> 5360 | Y15: =Y16*Y17 -> 5360 | Z15: =Z16*Z17 -> 6700 | AA15: =AA16*AA17 -> 8040 | ... AE15: =AE16*AE17 -> 9380 | AF15: =SUM(T15:AE15) -> 73700 | AG15: =AG16*AG17 -> 16080 | AH15: =AH16*AH17 -> 20100 | AI15: =AI16*AI17 -> 22780 | AJ15: =AJ16*AJ17 -> 13400 | AK15: =AK16*AK17 -> 12060 | AL15: =AL16*AL17 -> 13400 | AM15: =AM16*AM17 -> 16080 | AN15: =AN16*AN17 -> 17420 | ... AR15: =AR16*AR17 -> 24120 | AS15: =SUM(AG15:AR15) -> 196980 | AT15: =S15+AF15+AS15 -> 304700
B16: количество продаж | G16: 1 | H16: 1 | I16: 2 | J16: 2 | K16: 2 | L16: 3 | M16: 3 | N16: 3 | O16: 3 | P16: 3 | Q16: 3 | R16: 3 | S16: =SUM(G16:R16) -> 29 | T16: 4 | U16: 5 | V16: 5 | W16: 3 | X16: 4 | Y16: 4 | Z16: 5 | AA16: 6 | AB16: 5 | AC16: 2 | AD16: 5 | AE16: 7 | AF16: =SUM(T16:AE16) -> 55 | AG16: 12 | AH16: 15 | AI16: 17 | AJ16: 10 | AK16: 9 | AL16: 10 | AM16: 12 | AN16: 13 | AO16: 12 | AP16: 7 | AQ16: 12 | AR16: 18 | AS16: =SUM(AG16:AR16) -> 147 | AT16: =S16+AF16+AS16 -> 231
B17: цена 1 ед. | G17: 900 | H17: 900 | I17: 900 | J17: 900 | K17: 900 | L17: 900 | M17: 1340 | N17: 1340 | O17: 1340 | P17: 1340 | Q17: 1340 | R17: 1340 | S17: =SUM(G17:R17) -> 13440 | T17: 1340 | U17: 1340 | V17: 1340 | W17: 1340 | X17: 1340 | Y17: 1340 | Z17: 1340 | AA17: 1340 | AB17: 1340 | AC17: 1340 | AD17: 1340 | AE17: 1340 | AF17: =SUM(T17:AE17) -> 16080 | AG17: 1340 | AH17: 1340 | AI17: 1340 | AJ17: 1340 | AK17: 1340 | AL17: 1340 | AM17: 1340 | AN17: 1340 | AO17: 1340 | AP17: 1340 | AQ17: 1340 | AR17: 1340 | AS17: =SUM(AG17:AR17) -> 16080 | AT17: =S17+AF17+AS17 -> 45600
B18: 3 месяца марафона | G18: =G19*G20 -> 4490 | H18: =H19*H20 -> 8980 | I18: =I19*I20 -> 13470 | J18: =J19*J20 -> 17960 | K18: =K19*K20 -> 13470 | L18: =L19*L20 -> 13470 | M18: =M19*M20 -> 33650 | N18: =N19*N20 -> 33650 | ... R18: =R19*R20 -> 74030 | S18: =SUM(G18:R18) -> 314120 | T18: =T19*T20 -> 127870 | U18: =U19*U20 -> 141330 | V18: =V19*V20 -> 107680 | W18: =W19*W20 -> 74030 | X18: =X19*X20 -> 80760 | Y18: =Y19*Y20 -> 100950 | Z18: =Z19*Z20 -> 134600 | AA18: =AA19*AA20 -> 121140 | ... AE18: =AE19*AE20 -> 188440 | AF18: =SUM(T18:AE18) -> 1393110 | AG18: =AG19*AG20 -> 289390 | AH18: =AH19*AH20 -> 323040 | AI18: =AI19*AI20 -> 363420 | AJ18: =AJ19*AJ20 -> 195170 | AK18: =AK19*AK20 -> 201900 | AL18: =AL19*AL20 -> 201900 | AM18: =AM19*AM20 -> 222090 | AN18: =AN19*AN20 -> 249010 | ... AR18: =AR19*AR20 -> 255740 | AS18: =SUM(AG18:AR18) -> 2833330 | AT18: =S18+AF18+AS18 -> 4540560
B19: количество продаж | G19: 1 | H19: 2 | I19: 3 | J19: 4 | K19: 3 | L19: 3 | M19: 5 | N19: 5 | O19: 6 | P19: 3 | Q19: 6 | R19: 11 | S19: =SUM(G19:R19) -> 52 | T19: 19 | U19: 21 | V19: 16 | W19: 11 | X19: 12 | Y19: 15 | Z19: 20 | AA19: 18 | AB19: 17 | AC19: 9 | AD19: 21 | AE19: 28 | AF19: =SUM(T19:AE19) -> 207 | AG19: 43 | AH19: 48 | AI19: 54 | AJ19: 29 | AK19: 30 | AL19: 30 | AM19: 33 | AN19: 37 | AO19: 33 | AP19: 18 | AQ19: 28 | AR19: 38 | AS19: =SUM(AG19:AR19) -> 421 | AT19: =S19+AF19+AS19 -> 680
B20: цена 1 ед. | G20: 4490 | H20: 4490 | I20: 4490 | J20: 4490 | K20: 4490 | L20: 4490 | M20: 6730 | N20: 6730 | O20: 6730 | P20: 6730 | Q20: 6730 | R20: 6730 | S20: =SUM(G20:R20) -> 67320 | T20: 6730 | U20: 6730 | V20: 6730 | W20: 6730 | X20: 6730 | Y20: 6730 | Z20: 6730 | AA20: 6730 | AB20: 6730 | AC20: 6730 | AD20: 6730 | AE20: 6730 | AF20: =SUM(T20:AE20) -> 80760 | AG20: 6730 | AH20: 6730 | AI20: 6730 | AJ20: 6730 | AK20: 6730 | AL20: 6730 | AM20: 6730 | AN20: 6730 | AO20: 6730 | AP20: 6730 | AQ20: 6730 | AR20: 6730 | AS20: =SUM(AG20:AR20) -> 80760 | AT20: =S20+AF20+AS20 -> 228840
B21: 12 месяцев марафона | G21: =G22*G23 -> 0 | H21: =H22*H23 -> 10490 | I21: =I22*I23 -> 10490 | J21: =J22*J23 -> 10490 | K21: =K22*K23 -> 10490 | L21: =L22*L23 -> 10490 | M21: =M22*M23 -> 15690 | N21: =N22*N23 -> 15690 | ... R21: =R22*R23 -> 31380 | S21: =SUM(G21:R21) -> 177970 | T21: =T22*T23 -> 31380 | U21: =U22*U23 -> 31380 | V21: =V22*V23 -> 31380 | W21: =W22*W23 -> 47070 | X21: =X22*X23 -> 47070 | Y21: =Y22*Y23 -> 47070 | Z21: =Z22*Z23 -> 47070 | AA21: =AA22*AA23 -> 47070 | ... AE21: =AE22*AE23 -> 62760 | AF21: =SUM(T21:AE21) -> 486390 | AG21: =AG22*AG23 -> 94140 | AH21: =AH22*AH23 -> 109830 | AI21: =AI22*AI23 -> 94140 | AJ21: =AJ22*AJ23 -> 31380 | AK21: =AK22*AK23 -> 47070 | AL21: =AL22*AL23 -> 47070 | AM21: =AM22*AM23 -> 62760 | AN21: =AN22*AN23 -> 78450 | ... AR21: =AR22*AR23 -> 109830 | AS21: =SUM(AG21:AR21) -> 831570 | AT21: =S21+AF21+AS21 -> 1495930
B22: количество продаж | G22: 0 | H22: 1 | I22: 1 | J22: 1 | K22: 1 | L22: 1 | M22: 1 | N22: 1 | O22: 1 | P22: 1 | Q22: 2 | R22: 2 | S22: =SUM(G22:R22) -> 13 | T22: 2 | U22: 2 | V22: 2 | W22: 3 | X22: 3 | Y22: 3 | Z22: 3 | AA22: 3 | AB22: 1 | AC22: 2 | AD22: 3 | AE22: 4 | AF22: =SUM(T22:AE22) -> 31 | AG22: 6 | AH22: 7 | AI22: 6 | AJ22: 2 | AK22: 3 | AL22: 3 | AM22: 4 | AN22: 5 | AO22: 4 | AP22: 2 | AQ22: 4 | AR22: 7 | AS22: =SUM(AG22:AR22) -> 53 | AT22: =S22+AF22+AS22 -> 97
B23: цена 1 ед. | G23: 10490 | H23: 10490 | I23: 10490 | J23: 10490 | K23: 10490 | L23: 10490 | M23: 15690 | N23: 15690 | O23: 15690 | P23: 15690 | Q23: 15690 | R23: 15690 | S23: =SUM(G23:R23) -> 157080 | T23: 15690 | U23: 15690 | V23: 15690 | W23: 15690 | X23: 15690 | Y23: 15690 | Z23: 15690 | AA23: 15690 | AB23: 15690 | AC23: 15690 | AD23: 15690 | AE23: 15690 | AF23: =SUM(T23:AE23) -> 188280 | AG23: 15690 | AH23: 15690 | AI23: 15690 | AJ23: 15690 | AK23: 15690 | AL23: 15690 | AM23: 15690 | AN23: 15690 | AO23: 15690 | AP23: 15690 | AQ23: 15690 | AR23: 15690 | AS23: =SUM(AG23:AR23) -> 188280 | AT23: =S23+AF23+AS23 -> 533640
B24: 1 месяц Индивидуалки | G24: =G25*G26 -> 7980 | H24: =H25*H26 -> 14970 | I24: =I25*I26 -> 19960 | J24: =J25*J26 -> 24950 | K24: =K25*K26 -> 29940 | L24: =L25*L26 -> 24950 | M24: =M25*M26 -> 37450 | N24: =N25*N26 -> 44940 | ... R24: =R25*R26 -> 67410 | S24: =SUM(G24:R24) -> 414860 | T24: =T25*T26 -> 134820 | U24: =U25*U26 -> 179760 | V24: =V25*V26 -> 202230 | W24: =W25*W26 -> 104860 | X24: =X25*X26 -> 119840 | Y24: =Y25*Y26 -> 119840 | Z24: =Z25*Z26 -> 127330 | AA24: =AA25*AA26 -> 149800 | ... AE24: =AE25*AE26 -> 179760 | AF24: =SUM(T24:AE24) -> 1685250 | AG24: =AG25*AG26 -> 247170 | AH24: =AH25*AH26 -> 277130 | AI24: =AI25*AI26 -> 262150 | AJ24: =AJ25*AJ26 -> 179760 | AK24: =AK25*AK26 -> 194740 | AL24: =AL25*AL26 -> 202230 | AM24: =AM25*AM26 -> 232190 | AN24: =AN25*AN26 -> 277130 | ... AR24: =AR25*AR26 -> 337050 | AS24: =SUM(AG24:AR24) -> 2921100 | AT24: =S24+AF24+AS24 -> 5021210
B25: количество продаж | G25: 2 | H25: 3 | I25: 4 | J25: 5 | K25: 6 | L25: 5 | M25: 5 | N25: 6 | O25: 7 | P25: 4 | Q25: 8 | R25: 9 | S25: =SUM(G25:R25) -> 64 | T25: 18 | U25: 24 | V25: 27 | W25: 14 | X25: 16 | Y25: 16 | Z25: 17 | AA25: 20 | AB25: 23 | AC25: 8 | AD25: 18 | AE25: 24 | AF25: =SUM(T25:AE25) -> 225 | AG25: 33 | AH25: 37 | AI25: 35 | AJ25: 24 | AK25: 26 | AL25: 27 | AM25: 31 | AN25: 37 | AO25: 42 | AP25: 19 | AQ25: 34 | AR25: 45 | AS25: =SUM(AG25:AR25) -> 390 | AT25: =S25+AF25+AS25 -> 679
B26: цена 1 ед. | G26: 3990 | H26: 4990 | I26: 4990 | J26: 4990 | K26: 4990 | L26: 4990 | M26: 7490 | N26: 7490 | O26: 7490 | P26: 7490 | Q26: 7490 | R26: 7490 | S26: =SUM(G26:R26) -> 73880 | T26: 7490 | U26: 7490 | V26: 7490 | W26: 7490 | X26: 7490 | Y26: 7490 | Z26: 7490 | AA26: 7490 | AB26: 7490 | AC26: 7490 | AD26: 7490 | AE26: 7490 | AF26: =SUM(T26:AE26) -> 89880 | AG26: 7490 | AH26: 7490 | AI26: 7490 | AJ26: 7490 | AK26: 7490 | AL26: 7490 | AM26: 7490 | AN26: 7490 | AO26: 7490 | AP26: 7490 | AQ26: 7490 | AR26: 7490 | AS26: =SUM(AG26:AR26) -> 89880 | AT26: =S26+AF26+AS26 -> 253640
B27: 3 месяца Индивидуалки | G27: 0 | H27: =H28*H29 -> 11190 | I27: =I28*I29 -> 11190 | J27: =J28*J29 -> 11190 | K27: =K28*K29 -> 11190 | L27: =L28*L29 -> 11190 | M27: =M28*M29 -> 16790 | N27: =N28*N29 -> 16790 | O27: =O28*O29 -> 16790 | ... R27: =R28*R29 -> 33580 | S27: =SUM(G27:R27) -> 173480 | T27: 0 | U27: =U28*U29 -> 100740 | V27: =V28*V29 -> 67160 | W27: =W28*W29 -> 33580 | X27: =X28*X29 -> 33580 | Y27: =Y28*Y29 -> 33580 | Z27: =Z28*Z29 -> 67160 | AA27: =AA28*AA29 -> 50370 | AB27: =AB28*AB29 -> 50370 | ... AE27: =AE28*AE29 -> 117530 | AF27: =SUM(T27:AE27) -> 621230 | AG27: 0 | AH27: =AH28*AH29 -> 235060 | AI27: =AI28*AI29 -> 201480 | AJ27: =AJ28*AJ29 -> 83950 | AK27: =AK28*AK29 -> 83950 | AL27: =AL28*AL29 -> 117530 | AM27: =AM28*AM29 -> 151110 | AN27: =AN28*AN29 -> 218270 | AO27: =AO28*AO29 -> 134320 | ... AR27: =AR28*AR29 -> 251850 | AS27: =SUM(AG27:AR27) -> 1762950 | AT27: =S27+AF27+AS27 -> 2557660
B28: количество продаж | G28: =G12*0.0085 -> 0.357 | H28: 1 | I28: 1 | J28: 1 | K28: 1 | L28: 1 | M28: 1 | N28: 1 | O28: 1 | P28: 1 | Q28: 1 | R28: 2 | S28: =SUM(G28:R28) -> 12.357 | T28: 5 | U28: 6 | V28: 4 | W28: 2 | X28: 2 | Y28: 2 | Z28: 4 | AA28: 3 | AB28: 3 | AC28: 1 | AD28: 3 | AE28: 7 | AF28: =SUM(T28:AE28) -> 42 | AG28: 11 | AH28: 14 | AI28: 12 | AJ28: 5 | AK28: 5 | AL28: 7 | AM28: 9 | AN28: 13 | AO28: 8 | AP28: 6 | AQ28: 11 | AR28: 15 | AS28: =SUM(AG28:AR28) -> 116 | AT28: =S28+AF28+AS28 -> 170.357
B29: цена 1 ед. | G29: 8990 | H29: 11190 | I29: 11190 | J29: 11190 | K29: 11190 | L29: 11190 | M29: 16790 | N29: 16790 | O29: 16790 | P29: 16790 | Q29: 16790 | R29: 16790 | S29: =SUM(G29:R29) -> 165680 | T29: 16790 | U29: 16790 | V29: 16790 | W29: 16790 | X29: 16790 | Y29: 16790 | Z29: 16790 | AA29: 16790 | AB29: 16790 | AC29: 16790 | AD29: 16790 | AE29: 16790 | AF29: =SUM(T29:AE29) -> 201480 | AG29: 16790 | AH29: 16790 | AI29: 16790 | AJ29: 16790 | AK29: 16790 | AL29: 16790 | AM29: 16790 | AN29: 16790 | AO29: 16790 | AP29: 16790 | AQ29: 16790 | AR29: 16790 | AS29: =SUM(AG29:AR29) -> 201480 | AT29: =S29+AF29+AS29 -> 568640
B30: 12 месяцев Индивидуалки | G30: =G31*G32 -> 0 | H30: =H31*H32 -> 0 | I30: =I31*I32 -> 0 | J30: =J31*J32 -> 0 | K30: =K31*K32 -> 0 | L30: =L31*L32 -> 0 | M30: =M31*M32 -> 0 | N30: =N31*N32 -> 0 | ... R30: =R31*R32 -> 22490 | S30: =SUM(G30:R30) -> 67470 | T30: =T31*T32 -> 44980 | U30: =U31*U32 -> 44980 | V30: =V31*V32 -> 22490 | W30: =W31*W32 -> 22490 | X30: =X31*X32 -> 22490 | Y30: =Y31*Y32 -> 22490 | Z30: =Z31*Z32 -> 22490 | AA30: =AA31*AA32 -> 22490 | ... AE30: =AE31*AE32 -> 44980 | AF30: =SUM(T30:AE30) -> 314860 | AG30: =AG31*AG32 -> 89960 | AH30: =AH31*AH32 -> 112450 | AI30: =AI31*AI32 -> 89960 | AJ30: =AJ31*AJ32 -> 22490 | AK30: =AK31*AK32 -> 22490 | AL30: =AL31*AL32 -> 67470 | AM30: =AM31*AM32 -> 112450 | AN30: =AN31*AN32 -> 157430 | ... AR30: =AR31*AR32 -> 179920 | AS30: =SUM(AG30:AR30) -> 1124500 | AT30: =S30+AF30+AS30 -> 1506830
B31: количество продаж | G31: 0 | H31: 0 | I31: 0 | J31: 0 | K31: 0 | L31: 0 | M31: 0 | N31: 0 | O31: 1 | P31: 0 | Q31: 1 | R31: 1 | S31: =SUM(G31:R31) -> 3 | T31: 2 | U31: 2 | V31: 1 | W31: 1 | X31: 1 | Y31: 1 | Z31: 1 | AA31: 1 | AB31: 1 | AC31: 0 | AD31: 1 | AE31: 2 | AF31: =SUM(T31:AE31) -> 14 | AG31: 4 | AH31: 5 | AI31: 4 | AJ31: 1 | AK31: 1 | AL31: 3 | AM31: 5 | AN31: 7 | AO31: 5 | AP31: 2 | AQ31: 5 | AR31: 8 | AS31: =SUM(AG31:AR31) -> 50 | AT31: =S31+AF31+AS31 -> 67
B32: цена 1 ед. | G32: 22490 | H32: 22490 | I32: 22490 | J32: 22490 | K32: 22490 | L32: 22490 | M32: 22490 | N32: 22490 | O32: 22490 | P32: 22490 | Q32: 22490 | R32: 22490 | S32: =SUM(G32:R32) -> 269880 | T32: 22490 | U32: 22490 | V32: 22490 | W32: 22490 | X32: 22490 | Y32: 22490 | Z32: 22490 | AA32: 22490 | AB32: 22490 | AC32: 22490 | AD32: 22490 | AE32: 22490 | AF32: =SUM(T32:AE32) -> 269880 | AG32: 22490 | AH32: 22490 | AI32: 22490 | AJ32: 22490 | AK32: 22490 | AL32: 22490 | AM32: 22490 | AN32: 22490 | AO32: 22490 | AP32: 22490 | AQ32: 22490 | AR32: 22490 | AS32: =SUM(AG32:AR32) -> 269880 | AT32: =S32+AF32+AS32 -> 809640
A33: III. | B33: Расходы | G33: =G34+G35 -> 177354.7 | H33: =H34+H35 -> 190621.72 | I33: =I34+I35 -> 199981.78 | J33: =J34+J35 -> 203690.18 | K33: =K34+K35 -> 207249.66 | L33: =L34+L35 -> 209557.92 | M33: =M34+M35 -> 239588.66 | N33: =N34+N35 -> 248103.38 | ... R33: =R34+R35 -> 268273.57 | S33: =SUM(G33:R33) -> 2689079.2 | T33: =T34+T35 -> 171347.64 | U33: =U34+U35 -> 204818.14 | V33: =V34+V35 -> 203293.9 | W33: =W34+W35 -> 162390.54 | X33: =X34+X35 -> 167938.54 | Y33: =Y34+Y35 -> 175688.22 | Z33: =Z34+Z35 -> 196833.4 | AA33: =AA34+AA35 -> 202441.26 | ... AE33: =AE34+AE35 -> 262774.3 | AF33: =SUM(T33:AE33) -> 2271254.5 | AG33: =AG34+AG35 -> 292362.66 | AH33: =AH34+AH35 -> 353043.18 | AI33: =AI34+AI35 -> 358015.94 | AJ33: =AJ34+AJ35 -> 296539.72 | AK33: =AK34+AK35 -> 314900.68 | AL33: =AL34+AL35 -> 341628.9 | AM33: =AM34+AM35 -> 378381.48 | AN33: =AN34+AN35 -> 423883.84 | ... AR33: =AR34+AR35 -> 524191.68 | AS33: =SUM(AG33:AR33) -> 4537906 | AT33: =S33+AF33+AS33 -> 9498239.7
A34: 1. | B34: Постоянные | G34: ='1. Детализация инвестиций'!G9 -> 139500 | H34: =G34 -> 139500 | I34: =H34 -> 139500 | J34: =I34 -> 139500 | K34: =J34 -> 139500 | L34: =K34 -> 139500 | M34: =L34 -> 139500 | N34: =M34 -> 139500 | O34: =N34 -> 139500 | ... R34: =Q34 -> 139500 | S34: =SUM(G34:R34) -> 1674000 | T34: ='1. Детализация инвестиций'!G7 -> 7000 | U34: =T34 -> 7000 | V34: =U34 -> 7000 | W34: =V34 -> 7000 | X34: =W34 -> 7000 | Y34: =X34 -> 7000 | Z34: =Y34 -> 7000 | AA34: =Z34 -> 7000 | AB34: =AA34 -> 7000 | ... AE34: =AD34 -> 7000 | AF34: =SUM(T34:AE34) -> 84000 | AG34: ='1. Детализация инвестиций'!G7 -> 7000 | AH34: =AG34 -> 7000 | AI34: =AH34 -> 7000 | AJ34: =AI34 -> 7000 | AK34: =AJ34 -> 7000 | AL34: =AK34 -> 7000 | AM34: =AL34 -> 7000 | AN34: =AM34 -> 7000 | AO34: =AN34 -> 7000 | ... AR34: =AQ34 -> 7000 | AS34: =SUM(AG34:AR34) -> 84000 | AT34: =S34+AF34+AS34 -> 1842000
A35: 2. | B35: Переменные | G35: =SUM(G36:G41) -> 37854.7 | H35: =SUM(H36:H41) -> 51121.72 | I35: =SUM(I36:I41) -> 60481.78 | J35: =SUM(J36:J41) -> 64190.18 | K35: =SUM(K36:K41) -> 67749.66 | L35: =SUM(L36:L41) -> 70057.92 | M35: =SUM(M36:M41) -> 100088.66 | N35: =SUM(N36:N41) -> 108603.38 | ... R35: =SUM(R36:R41) -> 128773.57 | S35: =SUM(G35:R35) -> 1015079.2 | T35: =SUM(T36:T41) -> 164347.64 | U35: =SUM(U36:U41) -> 197818.14 | V35: =SUM(V36:V41) -> 196293.9 | W35: =SUM(W36:W41) -> 155390.54 | X35: =SUM(X36:X41) -> 160938.54 | Y35: =SUM(Y36:Y41) -> 168688.22 | Z35: =SUM(Z36:Z41) -> 189833.4 | AA35: =SUM(AA36:AA41) -> 195441.26 | ... AE35: =SUM(AE36:AE41) -> 255774.3 | AF35: =SUM(T35:AE35) -> 2187254.5 | AG35: =SUM(AG36:AG41) -> 285362.66 | AH35: =SUM(AH36:AH41) -> 346043.18 | AI35: =SUM(AI36:AI41) -> 351015.94 | AJ35: =SUM(AJ36:AJ41) -> 289539.72 | AK35: =SUM(AK36:AK41) -> 307900.68 | AL35: =SUM(AL36:AL41) -> 334628.9 | AM35: =SUM(AM36:AM41) -> 371381.48 | AN35: =SUM(AN36:AN41) -> 416883.84 | ... AR35: =SUM(AR36:AR41) -> 517191.68 | AS35: =SUM(AG35:AR35) -> 4453906 | AT35: =S35+AF35+AS35 -> 7656239.7
B36: ФОТ (Фонд оплаты труда) переменная часть | E36: 0.02 | G36: =G10*$E$36 -> 1939 | H36: =H10*$E$36 -> 3756.4 | I36: =I10*$E$36 -> 5038.6 | J36: =J10*$E$36 -> 5546.6 | K36: =K10*$E$36 -> 6034.2 | L36: =L10*$E$36 -> 6350.4 | M36: =M10*$E$36 -> 10464.2 | N36: =N10*$E$36 -> 11630.6 | ... R36: =R10*$E$36 -> 14393.64 | S36: =SUM(G36:R36) -> 100093.04 | T36: =T10*$E$36 -> 19266.8 | U36: =U10*$E$36 -> 23851.8 | V36: =V10*$E$36 -> 23643 | W36: =W10*$E$36 -> 18039.8 | X36: =X10*$E$36 -> 18799.8 | Y36: =Y10*$E$36 -> 19861.4 | Z36: =Z10*$E$36 -> 22758 | AA36: =AA10*$E$36 -> 23526.2 | ... AR36: =AR10*$E$36 -> 67601.6 | AS36: =SUM(AG36:AR36) -> 571165.2 | AT36: =S36+AF36+AS36 -> 931923.24
B37: Коммунальные платежи (э/энергия, топливо и т.п.) | E37: 0 | G37: =G10*$E$37 -> 0 | H37: =H10*$E$37 -> 0 | I37: =I10*$E$37 -> 0 | J37: =J10*$E$37 -> 0 | K37: =K10*$E$37 -> 0 | L37: =L10*$E$37 -> 0 | M37: =M10*$E$37 -> 0 | N37: =N10*$E$37 -> 0 | ... R37: =R10*$E$37 -> 0 | S37: =SUM(G37:R37) -> 0 | T37: =T10*$E$37 -> 0 | U37: =U10*$E$37 -> 0 | V37: =V10*$E$37 -> 0 | W37: =W10*$E$37 -> 0 | X37: =X10*$E$37 -> 0 | Y37: =Y10*$E$37 -> 0 | Z37: =Z10*$E$37 -> 0 | AA37: =AA10*$E$37 -> 0 | ... AR37: =AR10*$E$37 -> 0 | AS37: =SUM(AG37:AR37) -> 0 | AT37: =S37+AF37+AS37 -> 0
B38: Маркетинг/Реклама | E38: 0.1 | G38: =G10*$E$38 -> 9695 | H38: =H10*$E$38 -> 18782 | I38: =I10*$E$38 -> 25193 | J38: =J10*$E$38 -> 27733 | K38: =K10*$E$38 -> 30171 | L38: =L10*$E$38 -> 31752 | M38: =M10*$E$38 -> 52321 | N38: =N10*$E$38 -> 58153 | ... R38: =R10*$E$38 -> 71968.2 | S38: =SUM(G38:R38) -> 500465.2 | T38: =T10*$E$38 -> 96334 | U38: =U10*$E$38 -> 119259 | V38: =V10*$E$38 -> 118215 | W38: =W10*$E$38 -> 90199 | X38: =X10*$E$38 -> 93999 | Y38: =Y10*$E$38 -> 99307 | Z38: =Z10*$E$38 -> 113790 | AA38: =AA10*$E$38 -> 117631 | ... AR38: =AR10*$E$38 -> 338008 | AS38: =SUM(AG38:AR38) -> 2855826 | AT38: =S38+AF38+AS38 -> 4659616.2
B39: Непредвиденные расходы | E39: 0.02 | G39: =G10*$E$39 -> 1939 | H39: =H10*$E$39 -> 3756.4 | I39: =I10*$E$39 -> 5038.6 | J39: =J10*$E$39 -> 5546.6 | K39: =K10*$E$39 -> 6034.2 | L39: =L10*$E$39 -> 6350.4 | M39: =M10*$E$39 -> 10464.2 | N39: =N10*$E$39 -> 11630.6 | ... R39: =R10*$E$39 -> 14393.64 | S39: =SUM(G39:R39) -> 100093.04 | T39: =T10*$E$39 -> 19266.8 | U39: =U10*$E$39 -> 23851.8 | V39: =V10*$E$39 -> 23643 | W39: =W10*$E$39 -> 18039.8 | X39: =X10*$E$39 -> 18799.8 | Y39: =Y10*$E$39 -> 19861.4 | Z39: =Z10*$E$39 -> 22758 | AA39: =AA10*$E$39 -> 23526.2 | ... AR39: =AR10*$E$39 -> 67601.6 | AS39: =SUM(AG39:AR39) -> 571165.2 | AT39: =S39+AF39+AS39 -> 931923.24
B40: Страховые взносы | E40: 0.3 | G40: =('1. Детализация инвестиций'!$G$5+G36)*$E$40 -> 24281.7 | H40: =('1. Детализация инвестиций'!$G$5+H36)*$E$40 -> 24826.92 | I40: =('1. Детализация инвестиций'!$G$5+I36)*$E$40 -> 25211.58 | J40: =('1. Детализация инвестиций'!$G$5+J36)*$E$40 -> 25363.98 | K40: =('1. Детализация инвестиций'!$G$5+K36)*$E$40 -> 25510.26 | L40: =('1. Детализация инвестиций'!$G$5+L36)*$E$40 -> 25605.12 | M40: =('1. Детализация инвестиций'!$G$5+M36)*$E$40 -> 26839.26 | N40: =('1. Детализация инвестиций'!$G$5+N36)*$E$40 -> 27189.18 | ... R40: =('1. Детализация инвестиций'!$G$5+R36)*$E$40 -> 28018.092 | S40: =SUM(G40:R40) -> 314427.91 | T40: =('1. Детализация инвестиций'!$G$5+T36)*$E$40 -> 29480.04 | U40: =('1. Детализация инвестиций'!$G$5+U36)*$E$40 -> 30855.54 | V40: =('1. Детализация инвестиций'!$G$5+V36)*$E$40 -> 30792.9 | W40: =('1. Детализация инвестиций'!$G$5+W36)*$E$40 -> 29111.94 | X40: =('1. Детализация инвестиций'!$G$5+X36)*$E$40 -> 29339.94 | Y40: =('1. Детализация инвестиций'!$G$5+Y36)*$E$40 -> 29658.42 | Z40: =('1. Детализация инвестиций'!$G$5+Z36)*$E$40 -> 30527.4 | AA40: =('1. Детализация инвестиций'!$G$5+AA36)*$E$40 -> 30757.86 | ... AE40: =('1. Детализация инвестиций'!$G$5+AE36)*$E$40 -> 33237.3 | AF40: =SUM(T40:AE40) -> 362599.5 | AG40: =('1. Детализация инвестиций'!$G$5+AG36)*$E$40 -> 34453.26 | AH40: =('1. Детализация инвестиций'!$G$5+AH36)*$E$40 -> 36946.98 | AI40: =('1. Детализация инвестиций'!$G$5+AI36)*$E$40 -> 37151.34 | AJ40: =('1. Детализация инвестиций'!$G$5+AJ36)*$E$40 -> 34624.92 | AK40: =('1. Детализация инвестиций'!$G$5+AK36)*$E$40 -> 35379.48 | AL40: =('1. Детализация инвестиций'!$G$5+AL36)*$E$40 -> 36477.9 | AM40: =('1. Детализация инвестиций'!$G$5+AM36)*$E$40 -> 37988.28 | AN40: =('1. Детализация инвестиций'!$G$5+AN36)*$E$40 -> 39858.24 | ... AR40: =('1. Детализация инвестиций'!$G$5+AR36)*$E$40 -> 43980.48 | AS40: =SUM(AG40:AR40) -> 455749.56 | AT40: =S40+AF40+AS40 -> 1132777
B41: Прочее | AF41: =AF12*$E$39 -> 56.58
...

Sheet 3. Точка безубыточности
A1: ТОЧКА БЕЗУБЫТОЧНОСТИ
A5: Показатели за 3 года
A6: Объем продаж | B6: 0 | C6: 0.1 | D6: 0.2 | E6: 0.3 | F6: 0.4 | G6: 0.5 | H6: 0.6 | I6: 0.7 | J6: 0.8 | K6: 0.9 | L6: 1
A7: Доходы | B7: 0 | C7: =L7*C6 -> 4659616.2 | D7: =L7*D6 -> 9319232.4 | E7: =L7*E6 -> 13978849 | F7: =L7*F6 -> 18638465 | G7: =L7*G6 -> 23298081 | H7: =L7*H6 -> 27957697 | I7: =L7*I6 -> 32617313 | J7: =L7*J6 -> 37276930 | K7: =L7*K6 -> 41936546 | L7: ='2. Финансовая модель'!AT10 -> 46596162
A8: Постоянные расходы | B8: ='2. Финансовая модель'!$AT$34 -> 1842000 | C8: ='2. Финансовая модель'!$AT$34 -> 1842000 | D8: ='2. Финансовая модель'!$AT$34 -> 1842000 | E8: ='2. Финансовая модель'!$AT$34 -> 1842000 | F8: ='2. Финансовая модель'!$AT$34 -> 1842000 | G8: ='2. Финансовая модель'!$AT$34 -> 1842000 | H8: ='2. Финансовая модель'!$AT$34 -> 1842000 | I8: ='2. Финансовая модель'!$AT$34 -> 1842000 | ... L8: ='2. Финансовая модель'!$AT$34 -> 1842000
A9: Переменные расходы | B9: 0 | C9: =$L$9*C6 -> 765623.97 | D9: =$L$9*D6 -> 1531247.9 | E9: =$L$9*E6 -> 2296871.9 | F9: =$L$9*F6 -> 3062495.9 | G9: =$L$9*G6 -> 3828119.8 | H9: =$L$9*H6 -> 4593743.8 | I9: =$L$9*I6 -> 5359367.8 | J9: =$L$9*J6 -> 6124991.7 | K9: =$L$9*K6 -> 6890615.7 | L9: ='2. Финансовая модель'!$AT$35 -> 7656239.7
A10: Валовые расходы | B10: =B8+B9 -> 1842000 | C10: =C8+C9 -> 2607624 | D10: =D8+D9 -> 3373247.9 | E10: =E8+E9 -> 4138871.9 | F10: =F8+F9 -> 4904495.9 | G10: =G8+G9 -> 5670119.8 | H10: =H8+H9 -> 6435743.8 | I10: =I8+I9 -> 7201367.8 | ... L10: =L8+L9 -> 9498239.7
A11: Продажи | B11: 0 | C11: =$L$11*C6 -> 1162.08 | D11: =$L$11*D6 -> 2324.16 | E11: =$L$11*E6 -> 3486.24 | F11: =$L$11*F6 -> 4648.32 | G11: =$L$11*G6 -> 5810.4 | H11: =$L$11*H6 -> 6972.48 | I11: =$L$11*I6 -> 8134.56 | J11: =$L$11*J6 -> 9296.64 | K11: =$L$11*K6 -> 10458.72 | L11: ='2. Финансовая модель'!AT12+'2. Финансовая модель'!AT16+'2. Финансовая модель'!AT19+'2. Финансовая модель'!AT22 -> 11620.8
A12: В месяц | B12: 0 | C12: =C11/36 -> 32.28 | D12: =D11/36 -> 64.56 | E12: =E11/36 -> 96.84 | F12: =F11/36 -> 129.12 | G12: =G11/36 -> 161.4 | H12: =H11/36 -> 193.68 | I12: =I11/36 -> 225.96 | J12: =J11/36 -> 258.24 | ... L12: =L11/36 -> 322.8
