Workbook
Name AI_Version: [1]Options!$B$5
Name CalcMethod: [1]Проект!$B$77
Name Chk_Result: Риски!#REF!
Name Chk_Scen: Риски!#REF!
Name Chk_Sens: Риски!$D$4
Name CurName1: Параметры!$B$48
Name CurName2: Параметры!$B$58
Name CurName3: Параметры!$B$64
Name CurReport: Параметры!$C$70
Name IS_DEMO: [1]Options!$B$7
Name IS_ESTATE: [1]Options!$B$11
Name IS_SUMM: [1]Options!$B$10
Name IS_TRIAL: [1]Options!$B$8
Name LanguageID: [1]Language!$A$2
Name Opt_BuildDate: Options!$B$13
Name Opt_ChartSheet: Options!$A$28
Name Opt_Colors: Options!$A$43
Name Opt_DataSheet: Options!$A$23
Name Opt_DlgPrint: Options!$B$18
Name Opt_IsBuilt: Options!$B$12
Name Opt_IsDemo: Options!$B$15
Name Opt_IsSumm: Options!$B$14
Name Opt_KPISheet: Options!$A$27
Name Opt_MainSheet: Options!$A$21
Name Opt_Params: Options!$A$45
Name Opt_RatioSheet: Options!$A$25
Name Opt_ReportSheet: Options!$A$30
Name Opt_Results: Options!$A$53
Name Opt_ResultSheet: Options!$A$24
Name Opt_ResumeSheet: Options!$A$29
Name Opt_RiskSheet: Options!$A$26
Name Opt_Sheets: Options!$A$20
Name Opt_StartSheet: Options!$A$22
Name Opt_Themes: Options!$A$32
Name Opt_UniqueID: Options!$B$17
Name Opt_Version: Options!$B$8
Name PORT_PrjPeriods: [1]Портфель!$A$27
Name Prj_Cur1: Параметры!$D$48
Name Prj_Cur2: Параметры!$D$58
Name Prj_Cur3: Параметры!$D$64
Name Prj_CurReport: Параметры!$B$70
Name Prj_Inflation: Параметры!$B$46
Name Prj_Invest: Параметры!$D$24
Name Prj_KPI: Параметры!$D$15
Name Prj_Language: Параметры!$D$8
Name Prj_Len: Параметры!$D$23
Name Prj_Name: Параметры!$A$4
Name Prj_Period: Параметры!$D$25
Name Prj_Protect: Параметры!$D$9
Name Prj_Report: Параметры!$D$16
Name Prj_Resume: Параметры!$D$12
Name Prj_Risk: Параметры!$D$14
Name Prj_Start: Параметры!$D$13
Name Prj_StartDate: Параметры!$B$22
Name Prj_StartMonth: Параметры!$B$29
Name Prj_StartYear: Параметры!$B$28
Name Prj_Step: Параметры!$D$27
Name Prj_Style: Параметры!$D$10
Name Prj_Tax1: Параметры!$D$78
Name Prj_Tax2: Параметры!$D$85

Sheet Резюме
A1: =Prj_Name -> Производство нефтепродуктов
A4: =Language!A1526 -> ОСНОВНЫЕ ПОКАЗАТЕЛИ | E4: =Language!A1346 -> ЭФФЕКТИВНОСТЬ ДЛЯ ПРОЕКТА (FCFF)
A6: =Language!A1565 -> Инвестиции, с НДС | B6: =Отчеты!B164 -> 288600 | C6: =CurReport -> тыс. руб. | E6: =Language!A1364 -> Чистая приведенная стоимость, NPV | F6: =Анализ!B20 -> 2692858 | G6: =CurReport -> тыс. руб.
A7: =Language!A1566 -> Выручка, без НДС | B7: =Отчеты!DX6 -> 41765893 | C7: =CurReport -> тыс. руб. | E7: =Language!A1365 -> Внутренняя норма рентабельности, IRR | F7: =Анализ!B21 -> 0.94 | G7: %
A8: =Language!A1241 -> Чистая прибыль (убыток) | B8: =Отчеты!DX30 -> 5168343.9 | C8: =CurReport -> тыс. руб. | E8: =Language!A1369 -> Дисконтированный срок окупаемости, DPBP | F8: =Анализ!B25 -> 1.3 | G8: =Language!A$48 -> лет
A9: =Language!A1567 -> Денежные средства | B9: =Отчеты!DX64 -> 3464571.5 | C9: =CurReport -> тыс. руб.
A11: =Language!A1531 -> ПРИВЛЕКАЕМОЕ ФИНАНСИРОВАНИЕ | B11: =CurReport -> тыс. руб. | C11: =Language!A1527 -> Доля
A13: =Language!A1532 -> Собственные средства | B13: =Отчеты!DX57 -> 0 | C13: =IFERROR(B13/$B$15,"-") -> 0
A14: =Language!A1533 -> Заемные средства | B14: =Отчеты!DX58 -> 288093.63 | C14: =IFERROR(B14/$B$15,"-") -> 1
A15: =Language!A626 -> Итого: | B15: =SUM(B13:B14) -> 288093.63

Sheet Параметры
A1: =Prj_Name -> Производство нефтепродуктов | D1: Cur | E1: ID | F1: Flags | G1: =G$40 -> авг.22 | H1: =H$40 -> сен.22 | I1: =I$40 -> окт.22 | J1: =J$40 -> ноя.22 | K1: =K$40 -> дек.22 | L1: =L$40 -> янв.23 | M1: =M$40 -> фев.23 | N1: =N$40 -> мар.23 | ... DV1: =DV$40 -> июл.32
G2: =G31 -> 1 | H2: =H31 -> 2 | I2: =I31 -> 3 | J2: =J31 -> 4 | K2: =K31 -> 5 | L2: =L31 -> 6 | M2: =M31 -> 7 | N2: =N31 -> 8 | ... DV2: =DV31 -> 120
A3: =Language!A384 -> Название проекта
A4: Производство нефтепродуктов
A6: =Language!A386 -> НАСТРОЙКА ВИДА ТАБЛИЦ | E6: TABLE::GENERAL | F6: Help=101
F7: Skip=1
A8: =Language!A387 -> Язык интерфейса и отчетности | B8: =OFFSET(Language!A5,Prj_Language,0) -> Русский | D8: 1
A9: =Language!A388 -> Защита модели | B9: =OFFSET(Language!A371,Prj_Protect,0) -> Выключена | D9: 0
A10: =Language!A389 -> Стиль оформления листов | B10: =OFFSET(Language!A372,Prj_Style,0) -> Настройки пользователя | D10: 9
A12: =Language!A390 -> Показывать лист Резюме? | B12: =IF(D12=1,Language!$A$1465,Language!$A$1466) -> Да | D12: 1
A13: =Language!A391 -> Показывать лист Старт? | B13: =IF(D13=1,Language!$A$1465,Language!$A$1466) -> Нет | D13: 0
A14: =Language!A392 -> Показывать лист Риски? | B14: =IF(D14=1,Language!$A$1465,Language!$A$1466) -> Да | D14: 1
A15: =Language!A393 -> Показывать лист Мониторинг? | B15: =IF(D15=1,Language!$A$1465,Language!$A$1466) -> Нет | D15: 0
A16: =Language!A394 -> Показывать лист Бизнес-план? | B16: =IF(D16=1,Language!$A$1465,Language!$A$1466) -> Нет | D16: 0
E17: END::GENERAL | F17: Skip=1
A20: =Language!A395 -> ДАТА НАЧАЛА И ДЛИТЕЛЬНОСТЬ | E20: TABLE::SETUP | F20: Help=102 | G20: =G$40 -> авг.22 | H20: =H$40 -> сен.22 | I20: =I$40 -> окт.22 | J20: =J$40 -> ноя.22 | K20: =K$40 -> дек.22 | L20: =L$40 -> янв.23 | M20: =M$40 -> фев.23 | N20: =N$40 -> мар.23 | ... DV20: =DV$40 -> июл.32
F21: Skip=1
A22: =Language!A396 -> Дата начала проекта | B22: =DATE(Prj_StartYear,Prj_StartMonth,1) -> 44774
A23: =Language!A397 -> Горизонт планирования проекта | B23: =ROUND((Prj_Len-1)+$G39,2) -> 120 | C23: =OFFSET(Language!A45,Prj_Period,0) -> мес. | D23: 120
A24: =Language!A398 -> Инвестиционная фаза проекта | B24: =IF(Prj_Invest>0, ROUND((Prj_Invest-1)+$G39,2), 0) -> 0 | C24: =OFFSET(Language!A45,Prj_Period,0) -> мес. | D24: 0
A25: =Language!A399 -> Шаг планирования | B25: =OFFSET(Language!A41,Prj_Period,0) -> месяц | D25: 1
A27: =Language!A400 -> Длительность шага планирования | B27: =Prj_Step*30 -> 30 | C27: =Language!A45 -> дн. | D27: =CHOOSE(Prj_Period,1,3,12) -> 1
A28: =Language!A401 -> Год начала проекта | B28: 2022
A29: =Language!A402 -> Месяц начала проекта | B29: 8
A31: =Language!A403 -> Номер периода | G31: 1 | H31: =G31+1 -> 2 | I31: =H31+1 -> 3 | J31: =I31+1 -> 4 | K31: =J31+1 -> 5 | L31: =K31+1 -> 6 | M31: =L31+1 -> 7 | N31: =M31+1 -> 8 | O31: =N31+1 -> 9 | ... DV31: =DU31+1 -> 120
A32: =Language!A404 -> Дата начала периода | E32: PeriodBeg | F32: Mode=beg | G32: =Prj_StartDate -> 44774 | H32: =EDATE(G32,G37) -> 44805 | I32: =EDATE(H32,H37) -> 44835 | J32: =EDATE(I32,I37) -> 44866 | K32: =EDATE(J32,J37) -> 44896 | L32: =EDATE(K32,K37) -> 44927 | M32: =EDATE(L32,L37) -> 44958 | N32: =EDATE(M32,M37) -> 44986 | O32: =EDATE(N32,N37) -> 45017 | ... DV32: =EDATE(DU32,DU37) -> 48396
A33: =Language!A405 -> Дата конца периода | E33: PeriodEnd | F33: Mode=end | G33: =EDATE(G32,G37)-1 -> 44804 | H33: =EDATE(H32,H37)-1 -> 44834 | I33: =EDATE(I32,I37)-1 -> 44865 | J33: =EDATE(J32,J37)-1 -> 44895 | K33: =EDATE(K32,K37)-1 -> 44926 | L33: =EDATE(L32,L37)-1 -> 44957 | M33: =EDATE(M32,M37)-1 -> 44985 | N33: =EDATE(N32,N37)-1 -> 45016 | ... DV33: =EDATE(DV32,DV37)-1 -> 48426
A34: =Language!A406 -> Год периода | E34: PeriodYear | F34: Mode=beg | G34: =YEAR(G32) -> 2022 | H34: =YEAR(H32) -> 2022 | I34: =YEAR(I32) -> 2022 | J34: =YEAR(J32) -> 2022 | K34: =YEAR(K32) -> 2022 | L34: =YEAR(L32) -> 2023 | M34: =YEAR(M32) -> 2023 | N34: =YEAR(N32) -> 2023 | ... DV34: =YEAR(DV32) -> 2032
A35: =Language!A407 -> Месяц начала периода | E35: PeriodMonth | F35: Mode=beg | G35: =MONTH(G32) -> 8 | H35: =MONTH(H32) -> 9 | I35: =MONTH(I32) -> 10 | J35: =MONTH(J32) -> 11 | K35: =MONTH(K32) -> 12 | L35: =MONTH(L32) -> 1 | M35: =MONTH(M32) -> 2 | N35: =MONTH(N32) -> 3 | ... DV35: =MONTH(DV32) -> 7
A36: =Language!A408 -> Длительность периода в днях | F36: Mode=sum | G36: =G37*30 -> 30 | H36: =H37*30 -> 30 | I36: =I37*30 -> 30 | J36: =J37*30 -> 30 | K36: =K37*30 -> 30 | L36: =L37*30 -> 30 | M36: =M37*30 -> 30 | N36: =N37*30 -> 30 | ... DV36: =DV37*30 -> 30
A37: =Language!A409 -> Длительность периода в месяцах | E37: PeriodLen | F37: Mode=sum | G37: =Prj_Step-MOD(G35-1,Prj_Step) -> 1 | H37: =Prj_Step -> 1 | I37: =Prj_Step -> 1 | J37: =Prj_Step -> 1 | K37: =Prj_Step -> 1 | L37: =Prj_Step -> 1 | M37: =Prj_Step -> 1 | N37: =Prj_Step -> 1 | O37: =Prj_Step -> 1 | ... DV37: =Prj_Step -> 1
A38: =Language!A410 -> Неполный период (1 - да)? | F38: Mode=beg | G38: =IF(G37=Prj_Step,0,1) -> 0 | H38: 0 | I38: 0 | J38: 0 | K38: 0 | L38: 0 | M38: 0 | N38: 0 | O38: 0 | P38: 0 | Q38: 0 | R38: 0 | S38: 0 | T38: 0 | U38: 0 | V38: 0 | W38: 0 | X38: 0 | Y38: 0 | Z38: 0 | AA38: 0 | AB38: 0 | AC38: 0 | AD38: 0 | AE38: 0 | AF38: 0 | AG38: 0 | AH38: 0 | AI38: 0 | AJ38: 0 | AK38: 0 | AL38: 0 | AM38: 0 | AN38: 0 | AO38: 0 | AP38: 0 | AQ38: 0 | AR38: 0 | AS38: 0 | AT38: 0 | AU38: 0 | AV38: 0 | AW38: 0 | AX38: 0 | AY38: 0 | AZ38: 0 | BA38: 0 | BB38: 0 | BC38: 0 | BD38: 0 | BE38: 0 | BF38: 0 | BG38: 0 | BH38: 0 | BI38: 0 | BJ38: 0 | BK38: 0 | BL38: 0 | BM38: 0 | BN38: 0 | BO38: 0 | BP38: 0 | BQ38: 0 | BR38: 0 | BS38: 0 | BT38: 0 | BU38: 0 | BV38: 0 | BW38: 0 | BX38: 0 | BY38: 0 | BZ38: 0 | CA38: 0 | CB38: 0 | CC38: 0 | CD38: 0 | CE38: 0 | CF38: 0 | CG38: 0 | CH38: 0 | CI38: 0 | CJ38: 0 | CK38: 0 | CL38: 0 | CM38: 0 | CN38: 0 | CO38: 0 | CP38: 0 | CQ38: 0 | CR38: 0 | CS38: 0 | CT38: 0 | CU38: 0 | CV38: 0 | CW38: 0 | CX38: 0 | CY38: 0 | CZ38: 0 | DA38: 0 | DB38: 0 | DC38: 0 | DD38: 0 | DE38: 0 | DF38: 0 | DG38: 0 | DH38: 0 | DI38: 0 | DJ38: 0 | DK38: 0 | DL38: 0 | DM38: 0 | DN38: 0 | DO38: 0 | DP38: 0 | DQ38: 0 | DR38: 0 | DS38: 0 | DT38: 0 | DU38: 0 | DV38: 0
A39: =Language!A411 -> Коэффициент для учета неполного периода | F39: Mode=avg | G39: =G37/Prj_Step -> 1 | H39: 1 | I39: 1 | J39: 1 | K39: 1 | L39: 1 | M39: 1 | N39: 1 | O39: 1 | P39: 1 | Q39: 1 | R39: 1 | S39: 1 | T39: 1 | U39: 1 | V39: 1 | W39: 1 | X39: 1 | Y39: 1 | Z39: 1 | AA39: 1 | AB39: 1 | AC39: 1 | AD39: 1 | AE39: 1 | AF39: 1 | AG39: 1 | AH39: 1 | AI39: 1 | AJ39: 1 | AK39: 1 | AL39: 1 | AM39: 1 | AN39: 1 | AO39: 1 | AP39: 1 | AQ39: 1 | AR39: 1 | AS39: 1 | AT39: 1 | AU39: 1 | AV39: 1 | AW39: 1 | AX39: 1 | AY39: 1 | AZ39: 1 | BA39: 1 | BB39: 1 | BC39: 1 | BD39: 1 | BE39: 1 | BF39: 1 | BG39: 1 | BH39: 1 | BI39: 1 | BJ39: 1 | BK39: 1 | BL39: 1 | BM39: 1 | BN39: 1 | BO39: 1 | BP39: 1 | BQ39: 1 | BR39: 1 | BS39: 1 | BT39: 1 | BU39: 1 | BV39: 1 | BW39: 1 | BX39: 1 | BY39: 1 | BZ39: 1 | CA39: 1 | CB39: 1 | CC39: 1 | CD39: 1 | CE39: 1 | CF39: 1 | CG39: 1 | CH39: 1 | CI39: 1 | CJ39: 1 | CK39: 1 | CL39: 1 | CM39: 1 | CN39: 1 | CO39: 1 | CP39: 1 | CQ39: 1 | CR39: 1 | CS39: 1 | CT39: 1 | CU39: 1 | CV39: 1 | CW39: 1 | CX39: 1 | CY39: 1 | CZ39: 1 | DA39: 1 | DB39: 1 | DC39: 1 | DD39: 1 | DE39: 1 | DF39: 1 | DG39: 1 | DH39: 1 | DI39: 1 | DJ39: 1 | DK39: 1 | DL39: 1 | DM39: 1 | DN39: 1 | DO39: 1 | DP39: 1 | DQ39: 1 | DR39: 1 | DS39: 1 | DT39: 1 | DU39: 1 | DV39: 1
A40: =Language!A412 -> Название периода для заголовков таблиц | E40: PeriodTitle | G40: =IF(G38, TEXT(G35,"#") & "-" & TEXT(MONTH(G33),"#") & "." & TEXT(G34,"#"), CHOOSE(Prj_Period, OFFSET(Language!$A63,G35-1,0) & "." & TEXT(G34-2000,"#"), TEXT(ROUNDUP(G35/3,0),"#") & " " & Language!$A47 & " " & TEXT(G34,"#"), TEXT(G34,"#"))) -> авг.22 | H40: =IF(H38, TEXT(H35,"#") & "-" & TEXT(MONTH(H33),"#") & "." & TEXT(H34,"#"), CHOOSE(Prj_Period, OFFSET(Language!$A63,H35-1,0) & "." & TEXT(H34-2000,"#"), TEXT(ROUNDUP(H35/3,0),"#") & " " & Language!$A47 & " " & TEXT(H34,"#"), TEXT(H34,"#"))) -> сен.22 | I40: =IF(I38, TEXT(I35,"#") & "-" & TEXT(MONTH(I33),"#") & "." & TEXT(I34,"#"), CHOOSE(Prj_Period, OFFSET(Language!$A63,I35-1,0) & "." & TEXT(I34-2000,"#"), TEXT(ROUNDUP(I35/3,0),"#") & " " & Language!$A47 & " " & TEXT(I34,"#"), TEXT(I34,"#"))) -> окт.22 | J40: =IF(J38, TEXT(J35,"#") & "-" & TEXT(MONTH(J33),"#") & "." & TEXT(J34,"#"), CHOOSE(Prj_Period, OFFSET(Language!$A63,J35-1,0) & "." & TEXT(J34-2000,"#"), TEXT(ROUNDUP(J35/3,0),"#") & " " & Language!$A47 & " " & TEXT(J34,"#"), TEXT(J34,"#"))) -> ноя.22 | K40: =IF(K38, TEXT(K35,"#") & "-" & TEXT(MONTH(K33),"#") & "." & TEXT(K34,"#"), CHOOSE(Prj_Period, OFFSET(Language!$A63,K35-1,0) & "." & TEXT(K34-2000,"#"), TEXT(ROUNDUP(K35/3,0),"#") & " " & Language!$A47 & " " & TEXT(K34,"#"), TEXT(K34,"#"))) -> дек.22 | L40: =IF(L38, TEXT(L35,"#") & "-" & TEXT(MONTH(L33),"#") & "." & TEXT(L34,"#"), CHOOSE(Prj_Period, OFFSET(Language!$A63,L35-1,0) & "." & TEXT(L34-2000,"#"), TEXT(ROUNDUP(L35/3,0),"#") & " " & Language!$A47 & " " & TEXT(L34,"#"), TEXT(L34,"#"))) -> янв.23 | M40: =IF(M38, TEXT(M35,"#") & "-" & TEXT(MONTH(M33),"#") & "." & TEXT(M34,"#"), CHOOSE(Prj_Period, OFFSET(Language!$A63,M35-1,0) & "." & TEXT(M34-2000,"#"), TEXT(ROUNDUP(M35/3,0),"#") & " " & Language!$A47 & " " & TEXT(M34,"#"), TEXT(M34,"#"))) -> фев.23 | N40: =IF(N38, TEXT(N35,"#") & "-" & TEXT(MONTH(N33),"#") & "." & TEXT(N34,"#"), CHOOSE(Prj_Period, OFFSET(Language!$A63,N35-1,0) & "." & TEXT(N34-2000,"#"), TEXT(ROUNDUP(N35/3,0),"#") & " " & Language!$A47 & " " & TEXT(N34,"#"), TEXT(N34,"#"))) -> мар.23 | ... DV40: =IF(DV38, TEXT(DV35,"#") & "-" & TEXT(MONTH(DV33),"#") & "." & TEXT(DV34,"#"), CHOOSE(Prj_Period, OFFSET(Language!$A63,DV35-1,0) & "." & TEXT(DV34-2000,"#"), TEXT(ROUNDUP(DV35/3,0),"#") & " " & Language!$A47 & " " & TEXT(DV34,"#"), TEXT(DV34,"#"))) -> июл.32
E41: END::SETUP | F41: Skip=1
A44: =Language!A413 -> ВАЛЮТЫ, КУРСЫ, ИНФЛЯЦИЯ | E44: TABLE::CURRENCY | F44: Help=103 | G44: =G$40 -> авг.22 | H44: =H$40 -> сен.22 | I44: =I$40 -> окт.22 | J44: =J$40 -> ноя.22 | K44: =K$40 -> дек.22 | L44: =L$40 -> янв.23 | M44: =M$40 -> фев.23 | N44: =N$40 -> мар.23 | ... DV44: =DV$40 -> июл.32
F45: Skip=1
A46: =Language!A414 -> Учет инфляции при планировании цен | B46: 1 | C46: =OFFSET(Language!A482,Prj_Inflation,0) -> Учитывать
E47: Cur1 | F47: Row=8
A48: =Language!A415 -> Основная валюта расчетов | B48: =IF(D48<100, OFFSET(Language!A$94,D48,0), SUBSTITUTE(OFFSET(Language!A$114,INT(D48/100),0),"***",OFFSET(Language!A$94,D48-100*INT(D48/100),0)) ) -> тыс. руб. | D48: 113
...

Sheet Старт
A1: =Language!A$485 & " :: " & Prj_Name -> Начальный баланс :: Производство нефтепродуктов | D1: Cur | E1: ID | F1: Flags | G1: =Параметры!G$40 -> авг.22 | H1: =Параметры!H$40 -> сен.22 | I1: =Параметры!I$40 -> окт.22 | J1: =Параметры!J$40 -> ноя.22 | K1: =Параметры!K$40 -> дек.22 | L1: =Параметры!L$40 -> янв.23 | M1: =Параметры!M$40 -> фев.23 | N1: =Параметры!N$40 -> мар.23 | ... DV1: =Параметры!DV$40 -> июл.32 | DX1: =Language!$A$1463 -> ИТОГО
G2: =Параметры!G31 -> 1 | H2: =Параметры!H31 -> 2 | I2: =Параметры!I31 -> 3 | J2: =Параметры!J31 -> 4 | K2: =Параметры!K31 -> 5 | L2: =Параметры!L31 -> 6 | M2: =Параметры!M31 -> 7 | N2: =Параметры!N31 -> 8 | ... DV2: =Параметры!DV31 -> 120
A4: =Language!A$486 -> СТАРТОВЫЙ БАЛАНС | E4: TABLE::STBAL | F4: Help=201;Skip=c;AddTitle=CurName1
F5: Skip=1
A6: =Language!A$487 -> Денежные средства | B6: 0 | C6: =CurName1 -> тыс. руб.
A7: =Language!A$488 -> Дебиторская задолженность | B7: 0 | C7: =CurName1 -> тыс. руб.
A8: =Language!A$489 -> Авансы уплаченные поставщикам | B8: 0 | C8: =CurName1 -> тыс. руб.
A9: =Language!A$490 -> Готовая продукция на складе | B9: 0 | C9: =CurName1 -> тыс. руб.
A10: =Language!A$491 -> Незавершенное производство | B10: 0 | C10: =CurName1 -> тыс. руб.
A11: =Language!A$492 -> Запасы материалов и комплектующих | B11: 0 | C11: =CurName1 -> тыс. руб.
A12: =Language!A$493 -> НДС на приобретенные товары | B12: 0 | C12: =CurName1 -> тыс. руб.
A13: =Language!A$494 -> Краткосрочные финансовые вложения | B13: 0 | C13: =CurName1 -> тыс. руб.
A14: =Language!A$495 -> Прочие оборотные активы | B14: 0 | C14: =CurName1 -> тыс. руб.
A15: =Language!A$496 -> Суммарные оборотные активы | B15: =SUM(B6:B14) -> 0 | C15: =CurName1 -> тыс. руб.
F16: Skip=1
A17: =Language!A$497 -> Земельные участки | B17: 0 | C17: =CurName1 -> тыс. руб.
A18: =Language!A$498 -> Здания и сооружения | B18: 0 | C18: =CurName1 -> тыс. руб.
A19: =Language!A$499 -> Оборудование и прочие активы | B19: 0 | C19: =CurName1 -> тыс. руб.
A20: =Language!A$500 -> Нематериальные активы | B20: 0 | C20: =CurName1 -> тыс. руб.
A21: =Language!A$501 -> Долгосрочные финансовые вложения | B21: 0 | C21: =CurName1 -> тыс. руб.
A22: =Language!A$502 -> Незавершенные капиталовложения | B22: 0 | C22: =CurName1 -> тыс. руб.
A23: =Language!A$503 -> Прочие внеоборотные активы | B23: 0 | C23: =CurName1 -> тыс. руб.
A24: =Language!A$504 -> Суммарные внеоборотные активы | B24: =SUM(B17:B23) -> 0 | C24: =CurName1 -> тыс. руб.
F25: Skip=1
A26: =Language!A$505 -> ИТОГО АКТИВОВ | B26: =B15+B24 -> 0 | C26: =CurName1 -> тыс. руб.
A28: =Language!A$506 -> Кредиторская задолженность перед поставщиками | B28: 0 | C28: =CurName1 -> тыс. руб.
A29: =Language!A$507 -> Кредиторская задолженность за внеоборотные активы | B29: 0 | C29: =CurName1 -> тыс. руб.
A30: =Language!A$508 -> Расчеты с бюджетом | B30: 0 | C30: =CurName1 -> тыс. руб.
A31: =Language!A$509 -> Расчеты с персоналом | B31: 0 | C31: =CurName1 -> тыс. руб.
A32: =Language!A$510 -> Полученные авансы покупателей | B32: 0 | C32: =CurName1 -> тыс. руб.
A33: =Language!A$511 -> Краткосрочные кредиты | B33: 0 | C33: =CurName1 -> тыс. руб.
A34: =Language!A$512 -> Прочие краткосрочные обязательства | B34: 0 | C34: =CurName1 -> тыс. руб.
A35: =Language!A$513 -> Суммарные краткосрочные обязательства | B35: =SUM(B28:B34) -> 0 | C35: =CurName1 -> тыс. руб.
F36: Skip=1
A37: =Language!A$514 -> Долгосрочные кредиты | B37: 0 | C37: =CurName1 -> тыс. руб.
A38: =Language!A$515 -> Прочие долгосрочные обязательства | B38: 0 | C38: =CurName1 -> тыс. руб.
A39: =Language!A$516 -> Суммарные долгосрочные обязательства | B39: =B37+B38 -> 0 | C39: =CurName1 -> тыс. руб.
F40: Skip=1
A41: =Language!A$517 -> Акционерный капитал | B41: 0 | C41: =CurName1 -> тыс. руб.
A42: =Language!A$518 -> Нераспределенная прибыль | B42: 0 | C42: =CurName1 -> тыс. руб.
...

Sheet Проект
A1: =Language!A$588 & " :: " & Prj_Name -> Данные :: Производство нефтепродуктов | D1: Cur | E1: ID | F1: Flags | G1: =Параметры!G$40 -> авг.22 | H1: =Параметры!H$40 -> сен.22 | I1: =Параметры!I$40 -> окт.22 | J1: =Параметры!J$40 -> ноя.22 | K1: =Параметры!K$40 -> дек.22 | L1: =Параметры!L$40 -> янв.23 | M1: =Параметры!M$40 -> фев.23 | N1: =Параметры!N$40 -> мар.23 | ... DV1: =Параметры!DV$40 -> июл.32 | DX1: =Language!$A$1463 -> ИТОГО
G2: =Параметры!G31 -> 1 | H2: =Параметры!H31 -> 2 | I2: =Параметры!I31 -> 3 | J2: =Параметры!J31 -> 4 | K2: =Параметры!K31 -> 5 | L2: =Параметры!L31 -> 6 | M2: =Параметры!M31 -> 7 | N2: =Параметры!N31 -> 8 | ... DV2: =Параметры!DV31 -> 120
A4: =Language!A$589 -> ПРОДАЖИ | E4: TABLE::PRODUCT | F4: Help=301;Skip=b | G4: =Параметры!G$40 -> авг.22 | H4: =Параметры!H$40 -> сен.22 | I4: =Параметры!I$40 -> окт.22 | J4: =Параметры!J$40 -> ноя.22 | K4: =Параметры!K$40 -> дек.22 | L4: =Параметры!L$40 -> янв.23 | M4: =Параметры!M$40 -> фев.23 | N4: =Параметры!N$40 -> мар.23 | ... DV4: =Параметры!DV$40 -> июл.32 | DX4: =Language!$A$1463 -> ИТОГО
F5: Skip=1
E6: DATA | F6: Header=1;Type=1;Count=5;
A7: Дизель | D7: 1 | F7: ID=139;Type=2;Row=20
A8: =Language!A$610 -> объем продаж за период | B8: 3240 | C8: тонн | E8: qty | F8: Color=*;Sens=qty;Mode=sum | G8: =$B8*G9 -> 324 | H8: =$B8*H9 -> 972 | I8: =$B8*I9 -> 1458 | J8: =$B8*J9 -> 1782 | K8: =$B8*K9 -> 2106 | L8: =$B8*L9 -> 2430 | M8: =$B8*M9 -> 2754 | N8: =$B8*N9 -> 3013.2 | ... DV8: =$B8*DV9 -> 3564 | DX8: =SUM(G8:DW8) -> 394178.4
A9: =Language!A$591 -> коэффициент продаж периода | F9: Skip=1;Mode=avg | G9: 0.1 | H9: 0.3 | I9: 0.45 | J9: 0.55 | K9: 0.65 | L9: 0.75 | M9: 0.85 | N9: 0.93 | O9: 1.1 | P9: 1.1 | Q9: 1.1 | R9: 1.1 | S9: 1.1 | T9: 1.1 | U9: 1.1 | V9: 0.93 | W9: 0.93 | X9: 0.93 | Y9: 0.93 | Z9: 1.1 | AA9: 1.1 | AB9: 1.1 | AC9: 1.1 | AD9: 1.1 | AE9: 1.1 | AF9: 1.1 | AG9: 1.1 | AH9: 0.93 | AI9: 0.93 | AJ9: 0.93 | AK9: 0.93 | AL9: 1.1 | AM9: 1.1 | AN9: 1.1 | AO9: 1.1 | AP9: 1.1 | AQ9: 1.1 | AR9: 1.1 | AS9: 1.1 | AT9: 0.93 | AU9: 0.93 | AV9: 0.93 | AW9: 0.93 | AX9: 1.1 | AY9: 1.1 | AZ9: 1.1 | BA9: 1.1 | BB9: 1.1 | BC9: 1.1 | BD9: 1.1 | BE9: 1.1 | BF9: 0.93 | BG9: 0.93 | BH9: 0.93 | BI9: 0.93 | BJ9: 1.1 | BK9: 1.1 | BL9: 1.1 | BM9: 1.1 | BN9: 1.1 | BO9: 1.1 | BP9: 1.1 | BQ9: 1.1 | BR9: 0.93 | BS9: 0.93 | BT9: 0.93 | BU9: 0.93 | BV9: 1.1 | BW9: 1.1 | BX9: 1.1 | BY9: 1.1 | BZ9: 1.1 | CA9: 1.1 | CB9: 1.1 | CC9: 1.1 | CD9: 0.93 | CE9: 0.93 | CF9: 0.93 | CG9: 0.93 | CH9: 1.1 | CI9: 1.1 | CJ9: 1.1 | CK9: 1.1 | CL9: 1.1 | CM9: 1.1 | CN9: 1.1 | CO9: 1.1 | CP9: 0.93 | CQ9: 0.93 | CR9: 0.93 | CS9: 0.93 | CT9: 1.1 | CU9: 1.1 | CV9: 1.1 | CW9: 1.1 | CX9: 1.1 | CY9: 1.1 | CZ9: 1.1 | DA9: 1.1 | DB9: 0.93 | DC9: 0.93 | DD9: 0.93 | DE9: 0.93 | DF9: 1.1 | DG9: 1.1 | DH9: 1.1 | DI9: 1.1 | DJ9: 1.1 | DK9: 1.1 | DL9: 1.1 | DM9: 1.1 | DN9: 0.93 | DO9: 0.93 | DP9: 0.93 | DQ9: 0.93 | DR9: 1.1 | DS9: 1.1 | DT9: 1.1 | DU9: 1.1 | DV9: 1.1
A10: =Language!A$611 & C8 & Language!A$1475 -> цена за единицу (тонн), без НДС | B10: 32 | C10: =CHOOSE(D10,CurName1,CurName2,CurName3) -> тыс. руб. | D10: =D7 -> 1 | E10: price | F10: Color=*;Mode=avg | G10: =IF(G$2=1,$B10,F10)*IF($B23=1,G23,G22) -> 32 | H10: =IF(H$2=1,$B10,G10)*IF($B23=1,H23,H22) -> 32.180933 | I10: =IF(I$2=1,$B10,H10)*IF($B23=1,I23,I22) -> 32.362888 | J10: =IF(J$2=1,$B10,I10)*IF($B23=1,J23,J22) -> 32.545873 | K10: =IF(K$2=1,$B10,J10)*IF($B23=1,K23,K22) -> 32.729892 | L10: =IF(L$2=1,$B10,K10)*IF($B23=1,L23,L22) -> 32.914951 | M10: =IF(M$2=1,$B10,L10)*IF($B23=1,M23,M22) -> 33.101057 | N10: =IF(N$2=1,$B10,M10)*IF($B23=1,N23,N22) -> 33.288216 | ... DV10: =IF(DV$2=1,$B10,DU10)*IF($B23=1,DV23,DV22) -> 62.594923
A11: =Language!A$612 -> выручка от реализации, без НДС | C11: =CHOOSE(D11,CurName1,CurName2,CurName3) -> тыс. руб. | D11: =D7 -> 1 | E11: income | F11: Sens=price;Mode=sum | G11: =G8*G10 -> 10368 | H11: =H8*H10 -> 31279.867 | I11: =I8*I10 -> 47185.091 | J11: =J8*J10 -> 57996.745 | K11: =K8*K10 -> 68929.152 | L11: =L8*L10 -> 79983.332 | M11: =M8*M10 -> 91160.312 | N11: =N8*N10 -> 100304.05 | ... DV11: =DV8*DV10 -> 223088.3 | DX11: =SUM(G11:DW11) -> 18137841
A12: =Language!A$594 -> выручка от реализации, с НДС | C12: =CHOOSE(D12,CurName1,CurName2,CurName3) -> тыс. руб. | D12: =D7 -> 1 | F12: Mode=sum | G12: =G11+G24+G25 -> 12441.6 | H12: =H11+H24+H25 -> 37535.84 | I12: =I11+I24+I25 -> 56622.109 | J12: =J11+J24+J25 -> 69596.094 | K12: =K11+K24+K25 -> 82714.983 | L12: =L11+L24+L25 -> 95979.998 | M12: =M11+M24+M25 -> 109392.37 | N12: =N11+N24+N25 -> 120364.86 | ... DV12: =DV11+DV24+DV25 -> 267705.97 | DX12: =SUM(G12:DW12) -> 21765409
A13: =Language!A$613 -> дебиторская задолженность | C13: =CHOOSE(D13,CurName1,CurName2,CurName3) -> тыс. руб. | D13: =D7 -> 1 | E13: receivable | F13: Skip=1;Color=*;Mode=end | G13: =IF(AND($B14=0,G$2>1),F13,(G11+G24+G25)*$B14/Параметры!G$36) -> 0 | H13: =IF(AND($B14=0,H$2>1),G13,(H11+H24+H25)*$B14/Параметры!H$36) -> 0 | I13: =IF(AND($B14=0,I$2>1),H13,(I11+I24+I25)*$B14/Параметры!I$36) -> 0 | J13: =IF(AND($B14=0,J$2>1),I13,(J11+J24+J25)*$B14/Параметры!J$36) -> 0 | K13: =IF(AND($B14=0,K$2>1),J13,(K11+K24+K25)*$B14/Параметры!K$36) -> 0 | L13: =IF(AND($B14=0,L$2>1),K13,(L11+L24+L25)*$B14/Параметры!L$36) -> 0 | M13: =IF(AND($B14=0,M$2>1),L13,(M11+M24+M25)*$B14/Параметры!M$36) -> 0 | N13: =IF(AND($B14=0,N$2>1),M13,(N11+N24+N25)*$B14/Параметры!N$36) -> 0 | ... DV13: =IF(AND($B14=0,DV$2>1),DU13,(DV11+DV24+DV25)*$B14/Параметры!DV$36) -> 0
A14: =Language!A$614 -> средний период отсрочки платежа | B14: =$B$505 -> 0 | C14: =Language!$A$1464 -> дней | F14: Skip=1;Color=b
A15: =Language!A$615 -> авансы полученные | C15: =CHOOSE(D15,CurName1,CurName2,CurName3) -> тыс. руб. | D15: =D7 -> 1 | E15: advance | F15: Skip=1;Color=*;Mode=end | G15: =IF(OR(AND($B16=0,G$2>1),G$2=Prj_Len),F15,(OFFSET(G11,0,1)+OFFSET(G24,0,1)+OFFSET(G25,0,1))*$B16/Параметры!G$36) -> 0 | H15: =IF(OR(AND($B16=0,H$2>1),H$2=Prj_Len),G15,(OFFSET(H11,0,1)+OFFSET(H24,0,1)+OFFSET(H25,0,1))*$B16/Параметры!H$36) -> 0 | I15: =IF(OR(AND($B16=0,I$2>1),I$2=Prj_Len),H15,(OFFSET(I11,0,1)+OFFSET(I24,0,1)+OFFSET(I25,0,1))*$B16/Параметры!I$36) -> 0 | J15: =IF(OR(AND($B16=0,J$2>1),J$2=Prj_Len),I15,(OFFSET(J11,0,1)+OFFSET(J24,0,1)+OFFSET(J25,0,1))*$B16/Параметры!J$36) -> 0 | K15: =IF(OR(AND($B16=0,K$2>1),K$2=Prj_Len),J15,(OFFSET(K11,0,1)+OFFSET(K24,0,1)+OFFSET(K25,0,1))*$B16/Параметры!K$36) -> 0 | L15: =IF(OR(AND($B16=0,L$2>1),L$2=Prj_Len),K15,(OFFSET(L11,0,1)+OFFSET(L24,0,1)+OFFSET(L25,0,1))*$B16/Параметры!L$36) -> 0 | M15: =IF(OR(AND($B16=0,M$2>1),M$2=Prj_Len),L15,(OFFSET(M11,0,1)+OFFSET(M24,0,1)+OFFSET(M25,0,1))*$B16/Параметры!M$36) -> 0 | N15: =IF(OR(AND($B16=0,N$2>1),N$2=Prj_Len),M15,(OFFSET(N11,0,1)+OFFSET(N24,0,1)+OFFSET(N25,0,1))*$B16/Параметры!N$36) -> 0 | ... DV15: =IF(OR(AND($B16=0,DV$2>1),DV$2=Prj_Len),DU15,(OFFSET(DV11,0,1)+OFFSET(DV24,0,1)+OFFSET(DV25,0,1))*$B16/Параметры!DV$36) -> 0
A16: =Language!A$616 -> средний период предоплаты | B16: =$B$511 -> 0 | C16: =Language!$A$1464 -> дней | F16: Skip=1;Color=b
A17: =Language!A$617 -> поступление денежных средств, с НДС | C17: =CHOOSE(D17,CurName1,CurName2,CurName3) -> тыс. руб. | D17: =D7 -> 1 | E17: cash | F17: Skip=1;Mode=sum | G17: =G11+G24+G25-IF(G$2=1,G13,G13-F13)+IF(G$2=1,G15,G15-F15) -> 12441.6 | H17: =H11+H24+H25-IF(H$2=1,H13,H13-G13)+IF(H$2=1,H15,H15-G15) -> 37535.84 | I17: =I11+I24+I25-IF(I$2=1,I13,I13-H13)+IF(I$2=1,I15,I15-H15) -> 56622.109 | J17: =J11+J24+J25-IF(J$2=1,J13,J13-I13)+IF(J$2=1,J15,J15-I15) -> 69596.094 | K17: =K11+K24+K25-IF(K$2=1,K13,K13-J13)+IF(K$2=1,K15,K15-J15) -> 82714.983 | L17: =L11+L24+L25-IF(L$2=1,L13,L13-K13)+IF(L$2=1,L15,L15-K15) -> 95979.998 | M17: =M11+M24+M25-IF(M$2=1,M13,M13-L13)+IF(M$2=1,M15,M15-L15) -> 109392.37 | N17: =N11+N24+N25-IF(N$2=1,N13,N13-M13)+IF(N$2=1,N15,N15-M15) -> 120364.86 | ... DV17: =DV11+DV24+DV25-IF(DV$2=1,DV13,DV13-DU13)+IF(DV$2=1,DV15,DV15-DU15) -> 267705.97 | DX17: =SUM(G17:DW17) -> 21765409
A18: =Language!A$618 -> темп изменения цен | C18: =Language!$A$484 -> % в год | F18: Skip=1;Color=*;Mode=avg | G18: =CHOOSE($D7,Параметры!G$53,Параметры!G$62,Параметры!G$68) -> 0.07 | H18: =CHOOSE($D7,Параметры!H$53,Параметры!H$62,Параметры!H$68) -> 0.07 | I18: =CHOOSE($D7,Параметры!I$53,Параметры!I$62,Параметры!I$68) -> 0.07 | J18: =CHOOSE($D7,Параметры!J$53,Параметры!J$62,Параметры!J$68) -> 0.07 | K18: =CHOOSE($D7,Параметры!K$53,Параметры!K$62,Параметры!K$68) -> 0.07 | L18: =CHOOSE($D7,Параметры!L$53,Параметры!L$62,Параметры!L$68) -> 0.07 | M18: =CHOOSE($D7,Параметры!M$53,Параметры!M$62,Параметры!M$68) -> 0.07 | N18: =CHOOSE($D7,Параметры!N$53,Параметры!N$62,Параметры!N$68) -> 0.07 | ... DV18: =CHOOSE($D7,Параметры!DV$53,Параметры!DV$62,Параметры!DV$68) -> 0.07
A19: =Language!A$619 -> ставка НДС | C19: % | F19: Skip=1;Color=*;Mode=avg | G19: =IF(G$2=1,Параметры!G$78,IF(F19=Параметры!F$78,Параметры!F$78,F19)) -> 0.2 | H19: =IF(H$2=1,Параметры!H$78,IF(G19=Параметры!G$78,Параметры!G$78,G19)) -> 0.2 | I19: =IF(I$2=1,Параметры!I$78,IF(H19=Параметры!H$78,Параметры!H$78,H19)) -> 0.2 | J19: =IF(J$2=1,Параметры!J$78,IF(I19=Параметры!I$78,Параметры!I$78,I19)) -> 0.2 | K19: =IF(K$2=1,Параметры!K$78,IF(J19=Параметры!J$78,Параметры!J$78,J19)) -> 0.2 | L19: =IF(L$2=1,Параметры!L$78,IF(K19=Параметры!K$78,Параметры!K$78,K19)) -> 0.2 | M19: =IF(M$2=1,Параметры!M$78,IF(L19=Параметры!L$78,Параметры!L$78,L19)) -> 0.2 | N19: =IF(N$2=1,Параметры!N$78,IF(M19=Параметры!M$78,Параметры!M$78,M19)) -> 0.2 | ... DV19: =IF(DV$2=1,Параметры!DV$78,IF(DU19=Параметры!DU$78,Параметры!DU$78,DU19)) -> 0.2
A20: =Language!A$620 -> акцизы, на единицу | C20: =CHOOSE(D20,CurName1,CurName2,CurName3)&"/"&C8 -> тыс. руб./тонн | D20: =D7 -> 1 | F20: Skip=1;Color=*;Mode=avg | G20: 0 | H20: =G20 -> 0 | I20: =H20 -> 0 | J20: =I20 -> 0 | K20: =J20 -> 0 | L20: =K20 -> 0 | M20: =L20 -> 0 | N20: =M20 -> 0 | O20: =N20 -> 0 | ... DV20: =DU20 -> 0
A21: =Language!A$621 -> ставка акцизов, в процентах | C21: % | F21: Skip=1;Color=*;Mode=avg | G21: 0 | H21: =G21 -> 0 | I21: =H21 -> 0 | J21: =I21 -> 0 | K21: =J21 -> 0 | L21: =K21 -> 0 | M21: =L21 -> 0 | N21: =M21 -> 0 | O21: =N21 -> 0 | ... DV21: =DU21 -> 0
A22: =Language!A$622 -> коэффициент прироста цен к предыдущему периоду | C22: =Language!$A$1467 -> раз | F22: Skip=1;Mode=avg | G22: =IF(G$2=1,1,IF(Prj_Inflation=1,POWER(1+OFFSET(G18,0,-1),Параметры!G$36/360),1)) -> 1 | H22: =IF(H$2=1,1,IF(Prj_Inflation=1,POWER(1+OFFSET(H18,0,-1),Параметры!H$36/360),1)) -> 1.0056541 | I22: =IF(I$2=1,1,IF(Prj_Inflation=1,POWER(1+OFFSET(I18,0,-1),Параметры!I$36/360),1)) -> 1.0056541 | J22: =IF(J$2=1,1,IF(Prj_Inflation=1,POWER(1+OFFSET(J18,0,-1),Параметры!J$36/360),1)) -> 1.0056541 | K22: =IF(K$2=1,1,IF(Prj_Inflation=1,POWER(1+OFFSET(K18,0,-1),Параметры!K$36/360),1)) -> 1.0056541 | L22: =IF(L$2=1,1,IF(Prj_Inflation=1,POWER(1+OFFSET(L18,0,-1),Параметры!L$36/360),1)) -> 1.0056541 | M22: =IF(M$2=1,1,IF(Prj_Inflation=1,POWER(1+OFFSET(M18,0,-1),Параметры!M$36/360),1)) -> 1.0056541 | N22: =IF(N$2=1,1,IF(Prj_Inflation=1,POWER(1+OFFSET(N18,0,-1),Параметры!N$36/360),1)) -> 1.0056541 | ... DV22: =IF(DV$2=1,1,IF(Prj_Inflation=1,POWER(1+OFFSET(DV18,0,-1),Параметры!DV$36/360),1)) -> 1.0056541
A23: =Language!A$1476 -> индексировать в начале года | B23: 0 | C23: =IF(B23=1,Language!$A$1465,Language!$A$1466) -> Нет | F23: Skip=1;Color=b;Mode=avg | G23: =IF(Prj_Inflation=1,IF($B23=1,IF(G$2=1,1,IF(Параметры!G$35=1,1+OFFSET(G18,0,-1),1)),"-"),1) -> - | H23: =IF(Prj_Inflation=1,IF($B23=1,IF(H$2=1,1,IF(Параметры!H$35=1,1+OFFSET(H18,0,-1),1)),"-"),1) -> - | I23: =IF(Prj_Inflation=1,IF($B23=1,IF(I$2=1,1,IF(Параметры!I$35=1,1+OFFSET(I18,0,-1),1)),"-"),1) -> - | J23: =IF(Prj_Inflation=1,IF($B23=1,IF(J$2=1,1,IF(Параметры!J$35=1,1+OFFSET(J18,0,-1),1)),"-"),1) -> - | K23: =IF(Prj_Inflation=1,IF($B23=1,IF(K$2=1,1,IF(Параметры!K$35=1,1+OFFSET(K18,0,-1),1)),"-"),1) -> - | L23: =IF(Prj_Inflation=1,IF($B23=1,IF(L$2=1,1,IF(Параметры!L$35=1,1+OFFSET(L18,0,-1),1)),"-"),1) -> - | M23: =IF(Prj_Inflation=1,IF($B23=1,IF(M$2=1,1,IF(Параметры!M$35=1,1+OFFSET(M18,0,-1),1)),"-"),1) -> - | N23: =IF(Prj_Inflation=1,IF($B23=1,IF(N$2=1,1,IF(Параметры!N$35=1,1+OFFSET(N18,0,-1),1)),"-"),1) -> - | ... DV23: =IF(Prj_Inflation=1,IF($B23=1,IF(DV$2=1,1,IF(Параметры!DV$35=1,1+OFFSET(DV18,0,-1),1)),"-"),1) -> -
A24: =Language!A$623 -> акцизы начисленные | C24: =CHOOSE(D24,CurName1,CurName2,CurName3) -> тыс. руб. | D24: =D7 -> 1 | E24: excise | F24: Skip=1;Mode=sum | G24: =G11*G21+G8*G20 -> 0 | H24: =H11*H21+H8*H20 -> 0 | I24: =I11*I21+I8*I20 -> 0 | J24: =J11*J21+J8*J20 -> 0 | K24: =K11*K21+K8*K20 -> 0 | L24: =L11*L21+L8*L20 -> 0 | M24: =M11*M21+M8*M20 -> 0 | N24: =N11*N21+N8*N20 -> 0 | ... DV24: =DV11*DV21+DV8*DV20 -> 0 | DX24: =SUM(G24:DW24) -> 0
A25: =Language!A$624 -> НДС начисленный | C25: =CHOOSE(D25,CurName1,CurName2,CurName3) -> тыс. руб. | D25: =D7 -> 1 | E25: vat | F25: Skip=1;Mode=sum | G25: =(G11+G24)*G19 -> 2073.6 | H25: =(H11+H24)*H19 -> 6255.9733 | I25: =(I11+I24)*I19 -> 9437.0182 | J25: =(J11+J24)*J19 -> 11599.349 | K25: =(K11+K24)*K19 -> 13785.83 | L25: =(L11+L24)*L19 -> 15996.666 | M25: =(M11+M24)*M19 -> 18232.062 | N25: =(N11+N24)*N19 -> 20060.81 | ... DV25: =(DV11+DV24)*DV19 -> 44617.661 | DX25: =SUM(G25:DW25) -> 3627568.2
A26: =Language!A$625 -> НДС полученный с авансов | C26: =CHOOSE(D26,CurName1,CurName2,CurName3) -> тыс. руб. | D26: =D7 -> 1 | E26: taxadv | F26: Skip=1;Mode=sum | G26: =G15*G19/(1+G19) -> 0 | H26: =H15*H19/(1+H19) -> 0 | I26: =I15*I19/(1+I19) -> 0 | J26: =J15*J19/(1+J19) -> 0 | K26: =K15*K19/(1+K19) -> 0 | L26: =L15*L19/(1+L19) -> 0 | M26: =M15*M19/(1+M19) -> 0 | N26: =N15*N19/(1+N19) -> 0 | ... DV26: =DV15*DV19/(1+DV19) -> 0 | DX26: =SUM(G26:DW26) -> 0
A27: Мазут | D27: 1 | F27: ID=140;Type=2;Row=20
A28: =Language!A$610 -> объем продаж за период | B28: 1620 | C28: =C8 -> тонн | E28: qty | F28: Color=*;Sens=qty;Mode=sum | G28: =$B28*G29 -> 162 | H28: =$B28*H29 -> 486 | I28: =$B28*I29 -> 729 | J28: =$B28*J29 -> 891 | K28: =$B28*K29 -> 1053 | L28: =$B28*L29 -> 1215 | M28: =$B28*M29 -> 1377 | N28: =$B28*N29 -> 1506.6 | ... DV28: =$B28*DV29 -> 1782 | DX28: =SUM(G28:DW28) -> 197089.2
A29: =Language!A$591 -> коэффициент продаж периода | F29: Skip=1;Mode=avg | G29: =G9 -> 0.1 | H29: =H9 -> 0.3 | I29: =I9 -> 0.45 | J29: =J9 -> 0.55 | K29: =K9 -> 0.65 | L29: =L9 -> 0.75 | M29: =M9 -> 0.85 | N29: =N9 -> 0.93 | ... DV29: =DV9 -> 1.1
A30: =Language!A$611 & C28 & Language!A$1475 -> цена за единицу (тонн), без НДС | B30: 32 | C30: =CHOOSE(D30,CurName1,CurName2,CurName3) -> тыс. руб. | D30: =D27 -> 1 | E30: price | F30: Color=*;Mode=avg | G30: =IF(G$2=1,$B30,F30)*IF($B43=1,G43,G42) -> 32 | H30: =IF(H$2=1,$B30,G30)*IF($B43=1,H43,H42) -> 32.180933 | I30: =IF(I$2=1,$B30,H30)*IF($B43=1,I43,I42) -> 32.362888 | J30: =IF(J$2=1,$B30,I30)*IF($B43=1,J43,J42) -> 32.545873 | K30: =IF(K$2=1,$B30,J30)*IF($B43=1,K43,K42) -> 32.729892 | L30: =IF(L$2=1,$B30,K30)*IF($B43=1,L43,L42) -> 32.914951 | M30: =IF(M$2=1,$B30,L30)*IF($B43=1,M43,M42) -> 33.101057 | N30: =IF(N$2=1,$B30,M30)*IF($B43=1,N43,N42) -> 33.288216 | ... DV30: =IF(DV$2=1,$B30,DU30)*IF($B43=1,DV43,DV42) -> 62.594923
A31: =Language!A$612 -> выручка от реализации, без НДС | C31: =CHOOSE(D31,CurName1,CurName2,CurName3) -> тыс. руб. | D31: =D27 -> 1 | E31: income | F31: Sens=price;Mode=sum | G31: =G28*G30 -> 5184 | H31: =H28*H30 -> 15639.933 | I31: =I28*I30 -> 23592.546 | J31: =J28*J30 -> 28998.373 | K31: =K28*K30 -> 34464.576 | L31: =L28*L30 -> 39991.666 | M31: =M28*M30 -> 45580.156 | N31: =N28*N30 -> 50152.026 | ... DV31: =DV28*DV30 -> 111544.15 | DX31: =SUM(G31:DW31) -> 9068920.6
A32: =Language!A$594 -> выручка от реализации, с НДС | C32: =CHOOSE(D32,CurName1,CurName2,CurName3) -> тыс. руб. | D32: =D27 -> 1 | F32: Mode=sum | G32: =G31+G44+G45 -> 6220.8 | H32: =H31+H44+H45 -> 18767.92 | I32: =I31+I44+I45 -> 28311.055 | J32: =J31+J44+J45 -> 34798.047 | K32: =K31+K44+K45 -> 41357.491 | L32: =L31+L44+L45 -> 47989.999 | M32: =M31+M44+M45 -> 54696.187 | N32: =N31+N44+N45 -> 60182.431 | ... DV32: =DV31+DV44+DV45 -> 133852.98 | DX32: =SUM(G32:DW32) -> 10882705
A33: =Language!A$613 -> дебиторская задолженность | C33: =CHOOSE(D33,CurName1,CurName2,CurName3) -> тыс. руб. | D33: =D27 -> 1 | E33: receivable | F33: Skip=1;Color=*;Mode=end | G33: =IF(AND($B34=0,G$2>1),F33,(G31+G44+G45)*$B34/Параметры!G$36) -> 0 | H33: =IF(AND($B34=0,H$2>1),G33,(H31+H44+H45)*$B34/Параметры!H$36) -> 0 | I33: =IF(AND($B34=0,I$2>1),H33,(I31+I44+I45)*$B34/Параметры!I$36) -> 0 | J33: =IF(AND($B34=0,J$2>1),I33,(J31+J44+J45)*$B34/Параметры!J$36) -> 0 | K33: =IF(AND($B34=0,K$2>1),J33,(K31+K44+K45)*$B34/Параметры!K$36) -> 0 | L33: =IF(AND($B34=0,L$2>1),K33,(L31+L44+L45)*$B34/Параметры!L$36) -> 0 | M33: =IF(AND($B34=0,M$2>1),L33,(M31+M44+M45)*$B34/Параметры!M$36) -> 0 | N33: =IF(AND($B34=0,N$2>1),M33,(N31+N44+N45)*$B34/Параметры!N$36) -> 0 | ... DV33: =IF(AND($B34=0,DV$2>1),DU33,(DV31+DV44+DV45)*$B34/Параметры!DV$36) -> 0
A34: =Language!A$614 -> средний период отсрочки платежа | B34: =$B$505 -> 0 | C34: =Language!$A$1464 -> дней | F34: Skip=1;Color=b
A35: =Language!A$615 -> авансы полученные | C35: =CHOOSE(D35,CurName1,CurName2,CurName3) -> тыс. руб. | D35: =D27 -> 1 | E35: advance | F35: Skip=1;Color=*;Mode=end | G35: =IF(OR(AND($B36=0,G$2>1),G$2=Prj_Len),F35,(OFFSET(G31,0,1)+OFFSET(G44,0,1)+OFFSET(G45,0,1))*$B36/Параметры!G$36) -> 0 | H35: =IF(OR(AND($B36=0,H$2>1),H$2=Prj_Len),G35,(OFFSET(H31,0,1)+OFFSET(H44,0,1)+OFFSET(H45,0,1))*$B36/Параметры!H$36) -> 0 | I35: =IF(OR(AND($B36=0,I$2>1),I$2=Prj_Len),H35,(OFFSET(I31,0,1)+OFFSET(I44,0,1)+OFFSET(I45,0,1))*$B36/Параметры!I$36) -> 0 | J35: =IF(OR(AND($B36=0,J$2>1),J$2=Prj_Len),I35,(OFFSET(J31,0,1)+OFFSET(J44,0,1)+OFFSET(J45,0,1))*$B36/Параметры!J$36) -> 0 | K35: =IF(OR(AND($B36=0,K$2>1),K$2=Prj_Len),J35,(OFFSET(K31,0,1)+OFFSET(K44,0,1)+OFFSET(K45,0,1))*$B36/Параметры!K$36) -> 0 | L35: =IF(OR(AND($B36=0,L$2>1),L$2=Prj_Len),K35,(OFFSET(L31,0,1)+OFFSET(L44,0,1)+OFFSET(L45,0,1))*$B36/Параметры!L$36) -> 0 | M35: =IF(OR(AND($B36=0,M$2>1),M$2=Prj_Len),L35,(OFFSET(M31,0,1)+OFFSET(M44,0,1)+OFFSET(M45,0,1))*$B36/Параметры!M$36) -> 0 | N35: =IF(OR(AND($B36=0,N$2>1),N$2=Prj_Len),M35,(OFFSET(N31,0,1)+OFFSET(N44,0,1)+OFFSET(N45,0,1))*$B36/Параметры!N$36) -> 0 | ... DV35: =IF(OR(AND($B36=0,DV$2>1),DV$2=Prj_Len),DU35,(OFFSET(DV31,0,1)+OFFSET(DV44,0,1)+OFFSET(DV45,0,1))*$B36/Параметры!DV$36) -> 0
A36: =Language!A$616 -> средний период предоплаты | B36: =$B$511 -> 0 | C36: =Language!$A$1464 -> дней | F36: Skip=1;Color=b
A37: =Language!A$617 -> поступление денежных средств, с НДС | C37: =CHOOSE(D37,CurName1,CurName2,CurName3) -> тыс. руб. | D37: =D27 -> 1 | E37: cash | F37: Skip=1;Mode=sum | G37: =G31+G44+G45-IF(G$2=1,G33,G33-F33)+IF(G$2=1,G35,G35-F35) -> 6220.8 | H37: =H31+H44+H45-IF(H$2=1,H33,H33-G33)+IF(H$2=1,H35,H35-G35) -> 18767.92 | I37: =I31+I44+I45-IF(I$2=1,I33,I33-H33)+IF(I$2=1,I35,I35-H35) -> 28311.055 | J37: =J31+J44+J45-IF(J$2=1,J33,J33-I33)+IF(J$2=1,J35,J35-I35) -> 34798.047 | K37: =K31+K44+K45-IF(K$2=1,K33,K33-J33)+IF(K$2=1,K35,K35-J35) -> 41357.491 | L37: =L31+L44+L45-IF(L$2=1,L33,L33-K33)+IF(L$2=1,L35,L35-K35) -> 47989.999 | M37: =M31+M44+M45-IF(M$2=1,M33,M33-L33)+IF(M$2=1,M35,M35-L35) -> 54696.187 | N37: =N31+N44+N45-IF(N$2=1,N33,N33-M33)+IF(N$2=1,N35,N35-M35) -> 60182.431 | ... DV37: =DV31+DV44+DV45-IF(DV$2=1,DV33,DV33-DU33)+IF(DV$2=1,DV35,DV35-DU35) -> 133852.98 | DX37: =SUM(G37:DW37) -> 10882705
A38: =Language!A$618 -> темп изменения цен | C38: =Language!$A$484 -> % в год | F38: Skip=1;Color=*;Mode=avg | G38: =CHOOSE($D27,Параметры!G$53,Параметры!G$62,Параметры!G$68) -> 0.07 | H38: =CHOOSE($D27,Параметры!H$53,Параметры!H$62,Параметры!H$68) -> 0.07 | I38: =CHOOSE($D27,Параметры!I$53,Параметры!I$62,Параметры!I$68) -> 0.07 | J38: =CHOOSE($D27,Параметры!J$53,Параметры!J$62,Параметры!J$68) -> 0.07 | K38: =CHOOSE($D27,Параметры!K$53,Параметры!K$62,Параметры!K$68) -> 0.07 | L38: =CHOOSE($D27,Параметры!L$53,Параметры!L$62,Параметры!L$68) -> 0.07 | M38: =CHOOSE($D27,Параметры!M$53,Параметры!M$62,Параметры!M$68) -> 0.07 | N38: =CHOOSE($D27,Параметры!N$53,Параметры!N$62,Параметры!N$68) -> 0.07 | ... DV38: =CHOOSE($D27,Параметры!DV$53,Параметры!DV$62,Параметры!DV$68) -> 0.07
A39: =Language!A$619 -> ставка НДС | C39: % | F39: Skip=1;Color=*;Mode=avg | G39: =IF(G$2=1,Параметры!G$78,IF(F39=Параметры!F$78,Параметры!F$78,F39)) -> 0.2 | H39: =IF(H$2=1,Параметры!H$78,IF(G39=Параметры!G$78,Параметры!G$78,G39)) -> 0.2 | I39: =IF(I$2=1,Параметры!I$78,IF(H39=Параметры!H$78,Параметры!H$78,H39)) -> 0.2 | J39: =IF(J$2=1,Параметры!J$78,IF(I39=Параметры!I$78,Параметры!I$78,I39)) -> 0.2 | K39: =IF(K$2=1,Параметры!K$78,IF(J39=Параметры!J$78,Параметры!J$78,J39)) -> 0.2 | L39: =IF(L$2=1,Параметры!L$78,IF(K39=Параметры!K$78,Параметры!K$78,K39)) -> 0.2 | M39: =IF(M$2=1,Параметры!M$78,IF(L39=Параметры!L$78,Параметры!L$78,L39)) -> 0.2 | N39: =IF(N$2=1,Параметры!N$78,IF(M39=Параметры!M$78,Параметры!M$78,M39)) -> 0.2 | ... DV39: =IF(DV$2=1,Параметры!DV$78,IF(DU39=Параметры!DU$78,Параметры!DU$78,DU39)) -> 0.2
A40: =Language!A$620 -> акцизы, на единицу | C40: =CHOOSE(D40,CurName1,CurName2,CurName3)&"/"&C28 -> тыс. руб./тонн | D40: =D27 -> 1 | F40: Skip=1;Color=*;Mode=avg | G40: 0 | H40: =G40 -> 0 | I40: =H40 -> 0 | J40: =I40 -> 0 | K40: =J40 -> 0 | L40: =K40 -> 0 | M40: =L40 -> 0 | N40: =M40 -> 0 | O40: =N40 -> 0 | ... DV40: =DU40 -> 0
A41: =Language!A$621 -> ставка акцизов, в процентах | C41: % | F41: Skip=1;Color=*;Mode=avg | G41: 0 | H41: =G41 -> 0 | I41: =H41 -> 0 | J41: =I41 -> 0 | K41: =J41 -> 0 | L41: =K41 -> 0 | M41: =L41 -> 0 | N41: =M41 -> 0 | O41: =N41 -> 0 | ... DV41: =DU41 -> 0
...

Sheet ПРОДАЖИ
B3: Период: | C3: =Проект!G1 -> авг.22 | D3: =Проект!H1 -> сен.22 | E3: =Проект!I1 -> окт.22 | F3: =Проект!J1 -> ноя.22 | G3: =Проект!K1 -> дек.22 | H3: =Проект!L1 -> янв.23 | I3: =Проект!M1 -> фев.23 | J3: =Проект!N1 -> мар.23 | ... DR3: =Проект!DV1 -> июл.32
C4: =Проект!G2 -> 1 | D4: =Проект!H2 -> 2 | E4: =Проект!I2 -> 3 | F4: =Проект!J2 -> 4 | G4: =Проект!K2 -> 5 | H4: =Проект!L2 -> 6 | I4: =Проект!M2 -> 7 | J4: =Проект!N2 -> 8 | ... DR4: =Проект!DV2 -> 120
B5: Общий объем продукции (тонн)
B6: Дизельное топливо | C6: =Проект!G8 -> 324 | D6: =Проект!H8 -> 972 | E6: =Проект!I8 -> 1458 | F6: =Проект!J8 -> 1782 | G6: =Проект!K8 -> 2106 | H6: =Проект!L8 -> 2430 | I6: =Проект!M8 -> 2754 | J6: =Проект!N8 -> 3013.2 | ... DR6: =Проект!DV8 -> 3564
B7: Мазут | C7: =Проект!G28 -> 162 | D7: =Проект!H28 -> 486 | E7: =Проект!I28 -> 729 | F7: =Проект!J28 -> 891 | G7: =Проект!K28 -> 1053 | H7: =Проект!L28 -> 1215 | I7: =Проект!M28 -> 1377 | J7: =Проект!N28 -> 1506.6 | ... DR7: =Проект!DV28 -> 1782
B8: Бензин | C8: =Проект!G48 -> 54 | D8: =Проект!H48 -> 162 | E8: =Проект!I48 -> 243 | F8: =Проект!J48 -> 297 | G8: =Проект!K48 -> 351 | H8: =Проект!L48 -> 405 | I8: =Проект!M48 -> 459 | J8: =Проект!N48 -> 502.2 | ... DR8: =Проект!DV48 -> 594
B9: Битум | C9: =Проект!G68 -> 0 | D9: =Проект!H68 -> 0 | E9: =Проект!I68 -> 450 | F9: =Проект!J68 -> 810 | G9: =Проект!K68 -> 1080 | H9: =Проект!L68 -> 1080 | I9: =Проект!M68 -> 1080 | J9: =Проект!N68 -> 1080 | ... DR9: =Проект!DV68 -> 1800
B10: Печное топливо | C10: =Проект!G88 -> 0 | D10: =Проект!H88 -> 0 | E10: =Проект!I88 -> 450 | F10: =Проект!J88 -> 810 | G10: =Проект!K88 -> 1080 | H10: =Проект!L88 -> 1080 | I10: =Проект!M88 -> 1080 | J10: =Проект!N88 -> 1080 | ... DR10: =Проект!DV88 -> 1800
B12: Планируемый контрагент:
B13: ООО «Волга-ГЭС» (3443046899)
B14: Мазут | C14: =C7*0.4 -> 64.8 | D14: =D7*0.4 -> 194.4 | E14: =E7*0.4 -> 291.6 | F14: =F7*0.4 -> 356.4 | G14: =G7*0.4 -> 421.2 | H14: =H7*0.4 -> 486 | I14: =I7*0.4 -> 550.8 | J14: =J7*0.4 -> 602.64 | ... DR14: =DR7*0.4 -> 712.8
B16: ООО Чарах (0510011659)
B17: Мазут | C17: =C7*0.4 -> 64.8 | D17: =D7*0.4 -> 194.4 | E17: =E7*0.4 -> 291.6 | F17: =F7*0.4 -> 356.4 | G17: =G7*0.4 -> 421.2 | H17: =H7*0.4 -> 486 | I17: =I7*0.4 -> 550.8 | J17: =J7*0.4 -> 602.64 | ... DR17: =DR7*0.4 -> 712.8
B19: ООО "Югнефтепродукт" (0573008384)
B20: Дизельное топливо | C20: =C6*0.4 -> 129.6 | D20: =D6*0.4 -> 388.8 | E20: =E6*0.4 -> 583.2 | F20: =F6*0.4 -> 712.8 | G20: =G6*0.4 -> 842.4 | H20: =H6*0.4 -> 972 | I20: =I6*0.4 -> 1101.6 | J20: =J6*0.4 -> 1205.28 | ... DR20: =DR6*0.4 -> 1425.6
B21: Мазут | C21: =C7*0.2 -> 32.4 | D21: =D7*0.2 -> 97.2 | E21: =E7*0.2 -> 145.8 | F21: =F7*0.2 -> 178.2 | G21: =G7*0.2 -> 210.6 | H21: =H7*0.2 -> 243 | I21: =I7*0.2 -> 275.4 | J21: =J7*0.2 -> 301.32 | ... BO21: =BO7*0.2 -> 301.32 | BP21: =BP7*0.15 -> 225.99 | BQ21: =BQ7*0.15 -> 225.99 | BR21: =BR7*0.15 -> 267.3 | BS21: =BS7*0.15 -> 267.3 | BT21: =BT7*0.15 -> 267.3 | BU21: =BU7*0.15 -> 267.3 | BV21: =BV7*0.15 -> 267.3 | BW21: =BW7*0.15 -> 267.3 | ... DR21: =DR7*0.15 -> 267.3
B23: ООО НК "Развитие" (7702278423)
B24: Дизельное топливо | C24: =C6*0.35 -> 113.4 | D24: =D6*0.35 -> 340.2 | E24: =E6*0.35 -> 510.3 | F24: =F6*0.35 -> 623.7 | G24: =G6*0.35 -> 737.1 | H24: =H6*0.35 -> 850.5 | I24: =I6*0.35 -> 963.9 | J24: =J6*0.35 -> 1054.62 | ... DR24: =DR6*0.35 -> 1247.4
B26: ООО "Айтэкойл" (0268070989)
B27: Дизельное топливо | C27: =C6*0.25 -> 81 | D27: =D6*0.25 -> 243 | E27: =E6*0.25 -> 364.5 | F27: =F6*0.25 -> 445.5 | G27: =G6*0.25 -> 526.5 | H27: =H6*0.25 -> 607.5 | I27: =I6*0.25 -> 688.5 | J27: =J6*0.25 -> 753.3 | ... DR27: =DR6*0.25 -> 891
B29: ООО "Желдортранс" (5836685596)
B30: Бензин | C30: =C8 -> 54 | D30: =D8 -> 162 | E30: =E8 -> 243 | F30: =F8 -> 297 | G30: =G8 -> 351 | H30: =H8 -> 405 | I30: =I8 -> 459 | J30: =J8 -> 502.2 | ... DR30: =DR8 -> 594
B32: ООО "АстЩебСнаб" (3019024240)
B33: Дизельное топливо | C33: =C6*0.2 -> 64.8 | D33: =D6*0.2 -> 194.4 | E33: =E6*0.2 -> 291.6 | F33: =F6*0.2 -> 356.4 | G33: =G6*0.2 -> 421.2 | H33: =H6*0.2 -> 486 | I33: =I6*0.2 -> 550.8 | J33: =J6*0.2 -> 602.64 | ... DR33: =DR6*0.2 -> 712.8
B35: ООО "Омега" (2311238899)
B36: Битум | C36: =C9 -> 0 | D36: =D9 -> 0 | E36: =E9 -> 450 | F36: =F9 -> 810 | G36: =G9 -> 1080 | H36: =H9 -> 1080 | I36: =I9 -> 1080 | J36: =J9 -> 1080 | ... DR36: =DR9 -> 1800
B37: Печное Топливо | C37: =C10 -> 0 | D37: =D10 -> 0 | E37: =E10 -> 450 | F37: =F10 -> 810 | G37: =G10 -> 1080 | H37: =H10 -> 1080 | I37: =I10 -> 1080 | J37: =J10 -> 1080 | ... DR37: =DR10 -> 1800

Sheet Отчеты
A1: =Language!A18 & " :: " & Prj_Name -> Отчеты :: Производство нефтепродуктов | D1: Cur | E1: ID | F1: Flags | G1: =Параметры!G$40 -> авг.22 | H1: =Параметры!H$40 -> сен.22 | I1: =Параметры!I$40 -> окт.22 | J1: =Параметры!J$40 -> ноя.22 | K1: =Параметры!K$40 -> дек.22 | L1: =Параметры!L$40 -> янв.23 | M1: =Параметры!M$40 -> фев.23 | N1: =Параметры!N$40 -> мар.23 | ... DV1: =Параметры!DV$40 -> июл.32 | DX1: =Language!$A$1463 -> ИТОГО
G2: =Параметры!G31 -> 1 | H2: =Параметры!H31 -> 2 | I2: =Параметры!I31 -> 3 | J2: =Параметры!J31 -> 4 | K2: =Параметры!K31 -> 5 | L2: =Параметры!L31 -> 6 | M2: =Параметры!M31 -> 7 | N2: =Параметры!N31 -> 8 | ... DV2: =Параметры!DV31 -> 120
A4: =Language!A1218 -> ОТЧЕТ О ПРИБЫЛЯХ И УБЫТКАХ | E4: TABLE::PROFIT | F4: Help=401;Skip=bc;AddTitle=CurReport | G4: =Параметры!G$40 -> авг.22 | H4: =Параметры!H$40 -> сен.22 | I4: =Параметры!I$40 -> окт.22 | J4: =Параметры!J$40 -> ноя.22 | K4: =Параметры!K$40 -> дек.22 | L4: =Параметры!L$40 -> янв.23 | M4: =Параметры!M$40 -> фев.23 | N4: =Параметры!N$40 -> мар.23 | ... DV4: =Параметры!DV$40 -> июл.32 | DX4: =Language!$A$1463 -> ИТОГО
F5: Skip=1
A6: =Language!A1219 -> Выручка | C6: =Параметры!$C$70 -> тыс. руб. | E6: PL01 | F6: Mode=sum | G6: =Проект!G109/Параметры!G$70 -> 17118 | H6: =Проект!H109/Параметры!H$70 -> 51644.363 | I6: =Проект!I109/Параметры!I$70 -> 99294.398 | J6: =Проект!J109/Параметры!J$70 -> 134474.46 | K6: =Проект!K109/Параметры!K$70 -> 165722.69 | L6: =Проект!L109/Параметры!L$70 -> 184267.16 | M6: =Проект!M109/Параметры!M$70 -> 203016.03 | N6: =Проект!N109/Параметры!N$70 -> 218409.6 | ... DV6: =Проект!DV109/Параметры!DV$70 -> 533813.41 | DX6: =SUM(G6:DW6) -> 41765893
A7: =Language!A1220 -> Себестоимость: | C7: =Параметры!$C$70 -> тыс. руб. | E7: PL02 | F7: Mode=sum | G7: =SUM(G8:G10) -> -18256.4 | H7: =SUM(H8:H10) -> -52137.536 | I7: =SUM(I8:I10) -> -87921.27 | J7: =SUM(J8:J10) -> -113553.97 | K7: =SUM(K8:K10) -> -137448.57 | L7: =SUM(L8:L10) -> -155499.9 | M7: =SUM(M8:M10) -> -173750.97 | N7: =SUM(N8:N10) -> -188709.44 | ... DV7: =SUM(DV8:DV10) -> -441678.38 | DX7: =SUM(G7:DW7) -> -35162231
A8: =Language!A1221 -> сырье и материалы | C8: =Параметры!$C$70 -> тыс. руб. | E8: PL03 | F8: Skip=2;Mode=sum | G8: =-Проект!G272/Параметры!G$70 -> -16794 | H8: =-Проект!H272/Параметры!H$70 -> -50666.867 | I8: =-Проект!I272/Параметры!I$70 -> -86442.286 | J8: =-Проект!J272/Параметры!J$70 -> -112066.63 | K8: =-Проект!K272/Параметры!K$70 -> -135952.81 | L8: =-Проект!L272/Параметры!L$70 -> -153995.69 | M8: =-Проект!M272/Параметры!M$70 -> -172238.25 | N8: =-Проект!N272/Параметры!N$70 -> -187188.17 | ... DV8: =-Проект!DV272/Параметры!DV$70 -> -438817.79 | DX8: =SUM(G8:DW8) -> -34912085
A9: =Language!A1222 -> производственный персонал | C9: =Параметры!$C$70 -> тыс. руб. | E9: PL04 | F9: Skip=2;Mode=sum | G9: =-Проект!G380/Параметры!G$70 -> -1362.4 | H9: =-Проект!H380/Параметры!H$70 -> -1370.1032 | I9: =-Проект!I380/Параметры!I$70 -> -1377.85 | J9: =-Проект!J380/Параметры!J$70 -> -1385.6405 | K9: =-Проект!K380/Параметры!K$70 -> -1393.4751 | L9: =-Проект!L380/Параметры!L$70 -> -1401.3541 | M9: =-Проект!M380/Параметры!M$70 -> -1409.2775 | N9: =-Проект!N380/Параметры!N$70 -> -1417.2458 | ... DV9: =-Проект!DV380/Параметры!DV$70 -> -2664.9788 | DX9: =SUM(G9:DW9) -> -233040.88
A10: =Language!A1223 -> производственные расходы | C10: =Параметры!$C$70 -> тыс. руб. | E10: PL05 | F10: Skip=2;Mode=sum | G10: =-Проект!G459/Параметры!G$70 -> -100 | H10: =-Проект!H459/Параметры!H$70 -> -100.56541 | I10: =-Проект!I459/Параметры!I$70 -> -101.13403 | J10: =-Проект!J459/Параметры!J$70 -> -101.70585 | K10: =-Проект!K459/Параметры!K$70 -> -102.28091 | L10: =-Проект!L459/Параметры!L$70 -> -102.85922 | M10: =-Проект!M459/Параметры!M$70 -> -103.4408 | N10: =-Проект!N459/Параметры!N$70 -> -104.02567 | ... DV10: =-Проект!DV459/Параметры!DV$70 -> -195.60913 | DX10: =SUM(G10:DW10) -> -17105.173
A11: =Language!A1225 -> Валовая прибыль | C11: =Параметры!$C$70 -> тыс. руб. | E11: PL06 | F11: Mode=sum | G11: =SUM(G6:G7) -> -1138.4 | H11: =SUM(H6:H7) -> -493.17279 | I11: =SUM(I6:I7) -> 11373.128 | J11: =SUM(J6:J7) -> 20920.487 | K11: =SUM(K6:K7) -> 28274.126 | L11: =SUM(L6:L7) -> 28767.256 | M11: =SUM(M6:M7) -> 29265.059 | N11: =SUM(N6:N7) -> 29700.162 | ... DV11: =SUM(DV6:DV7) -> 92135.032 | DX11: =SUM(G11:DW11) -> 6603662.2
F12: Skip=1
A13: =Language!A1226 -> Административный и коммерческий персонал | C13: =Параметры!$C$70 -> тыс. руб. | E13: PL07 | F13: Skip=2;Mode=sum | G13: =(-Проект!G388-Проект!G396)/Параметры!G$70 -> -327.5 | H13: =(-Проект!H388-Проект!H396)/Параметры!H$70 -> -329.35173 | I13: =(-Проект!I388-Проект!I396)/Параметры!I$70 -> -331.21394 | J13: =(-Проект!J388-Проект!J396)/Параметры!J$70 -> -333.08667 | K13: =(-Проект!K388-Проект!K396)/Параметры!K$70 -> -334.96999 | L13: =(-Проект!L388-Проект!L396)/Параметры!L$70 -> -336.86396 | M13: =(-Проект!M388-Проект!M396)/Параметры!M$70 -> -338.76863 | N13: =(-Проект!N388-Проект!N396)/Параметры!N$70 -> -340.68408 | ... DV13: =(-Проект!DV388-Проект!DV396)/Параметры!DV$70 -> -640.61991 | DX13: =SUM(G13:DW13) -> -56019.442
A14: =Language!A1227 -> Административные расходы | C14: =Параметры!$C$70 -> тыс. руб. | E14: PL08 | F14: Skip=2;Mode=sum | G14: =-Проект!G472/Параметры!G$70 -> 0 | H14: =-Проект!H472/Параметры!H$70 -> 0 | I14: =-Проект!I472/Параметры!I$70 -> 0 | J14: =-Проект!J472/Параметры!J$70 -> 0 | K14: =-Проект!K472/Параметры!K$70 -> 0 | L14: =-Проект!L472/Параметры!L$70 -> 0 | M14: =-Проект!M472/Параметры!M$70 -> 0 | N14: =-Проект!N472/Параметры!N$70 -> 0 | ... DV14: =-Проект!DV472/Параметры!DV$70 -> 0 | DX14: =SUM(G14:DW14) -> 0
A15: =Language!A1228 -> Коммерческие расходы | C15: =Параметры!$C$70 -> тыс. руб. | E15: PL09 | F15: Skip=2;Mode=sum | G15: =-Проект!G485/Параметры!G$70 -> -25 | H15: =-Проект!H485/Параметры!H$70 -> -25.141354 | I15: =-Проект!I485/Параметры!I$70 -> -25.283507 | J15: =-Проект!J485/Параметры!J$70 -> -25.426463 | K15: =-Проект!K485/Параметры!K$70 -> -25.570228 | L15: =-Проект!L485/Параметры!L$70 -> -25.714806 | M15: =-Проект!M485/Параметры!M$70 -> -25.860201 | N15: =-Проект!N485/Параметры!N$70 -> -26.006418 | ... DV15: =-Проект!DV485/Параметры!DV$70 -> -48.902283 | DX15: =SUM(G15:DW15) -> -4276.2933
A16: =Language!A1229 -> Налоги и сборы | C16: =Параметры!$C$70 -> тыс. руб. | E16: PL10 | F16: Skip=2;Mode=sum | G16: =-SUM(Проект!G875,Проект!G879:G880,Проект!G901)/Параметры!G$70 -> 0 | H16: =-SUM(Проект!H875,Проект!H879:H880,Проект!H901)/Параметры!H$70 -> 0 | I16: =-SUM(Проект!I875,Проект!I879:I880,Проект!I901)/Параметры!I$70 -> 0 | J16: =-SUM(Проект!J875,Проект!J879:J880,Проект!J901)/Параметры!J$70 -> 0 | K16: =-SUM(Проект!K875,Проект!K879:K880,Проект!K901)/Параметры!K$70 -> 0 | L16: =-SUM(Проект!L875,Проект!L879:L880,Проект!L901)/Параметры!L$70 -> 0 | M16: =-SUM(Проект!M875,Проект!M879:M880,Проект!M901)/Параметры!M$70 -> 0 | N16: =-SUM(Проект!N875,Проект!N879:N880,Проект!N901)/Параметры!N$70 -> 0 | ... DV16: =-SUM(Проект!DV875,Проект!DV879:DV880,Проект!DV901)/Параметры!DV$70 -> 0 | DX16: =SUM(G16:DW16) -> 0
A17: =Language!A1230 -> EBITDA | C17: =Параметры!$C$70 -> тыс. руб. | E17: PL11 | F17: Mode=sum | G17: =SUM(G11,G13:G16) -> -1490.9 | H17: =SUM(H11,H13:H16) -> -847.66588 | I17: =SUM(I11,I13:I16) -> 11016.631 | J17: =SUM(J11,J13:J16) -> 20561.974 | K17: =SUM(K11,K13:K16) -> 27913.586 | L17: =SUM(L11,L13:L16) -> 28404.677 | M17: =SUM(M11,M13:M16) -> 28900.43 | N17: =SUM(N11,N13:N16) -> 29333.472 | ... DV17: =SUM(DV11,DV13:DV16) -> 91445.509 | DX17: =SUM(G17:DW17) -> 6543366.5
A19: =Language!A1231 -> Лизинговые платежи | C19: =Параметры!$C$70 -> тыс. руб. | E19: PL12 | F19: Skip=2;Mode=sum | G19: =-SUM(Проект!G740:G741)/Параметры!G$70 -> 0 | H19: =-SUM(Проект!H740:H741)/Параметры!H$70 -> 0 | I19: =-SUM(Проект!I740:I741)/Параметры!I$70 -> 0 | J19: =-SUM(Проект!J740:J741)/Параметры!J$70 -> 0 | K19: =-SUM(Проект!K740:K741)/Параметры!K$70 -> 0 | L19: =-SUM(Проект!L740:L741)/Параметры!L$70 -> 0 | M19: =-SUM(Проект!M740:M741)/Параметры!M$70 -> 0 | N19: =-SUM(Проект!N740:N741)/Параметры!N$70 -> 0 | ... DV19: =-SUM(Проект!DV740:DV741)/Параметры!DV$70 -> 0 | DX19: =SUM(G19:DW19) -> 0
A20: =Language!A1232 -> Амортизация | C20: =Параметры!$C$70 -> тыс. руб. | E20: PL13 | F20: Mode=sum | G20: =-SUM(Проект!G675,Проект!G690,Проект!G704,Проект!G712,Старт!G70,Старт!G77,Старт!G84)/Параметры!G$70 -> 0 | H20: =-SUM(Проект!H675,Проект!H690,Проект!H704,Проект!H712,Старт!H70,Старт!H77,Старт!H84)/Параметры!H$70 -> 0 | I20: =-SUM(Проект!I675,Проект!I690,Проект!I704,Проект!I712,Старт!I70,Старт!I77,Старт!I84)/Параметры!I$70 -> 0 | J20: =-SUM(Проект!J675,Проект!J690,Проект!J704,Проект!J712,Старт!J70,Старт!J77,Старт!J84)/Параметры!J$70 -> 0 | K20: =-SUM(Проект!K675,Проект!K690,Проект!K704,Проект!K712,Старт!K70,Старт!K77,Старт!K84)/Параметры!K$70 -> 0 | L20: =-SUM(Проект!L675,Проект!L690,Проект!L704,Проект!L712,Старт!L70,Старт!L77,Старт!L84)/Параметры!L$70 -> 0 | M20: =-SUM(Проект!M675,Проект!M690,Проект!M704,Проект!M712,Старт!M70,Старт!M77,Старт!M84)/Параметры!M$70 -> 0 | N20: =-SUM(Проект!N675,Проект!N690,Проект!N704,Проект!N712,Старт!N70,Старт!N77,Старт!N84)/Параметры!N$70 -> 0 | ... DV20: =-SUM(Проект!DV675,Проект!DV690,Проект!DV704,Проект!DV712,Старт!DV70,Старт!DV77,Старт!DV84)/Параметры!DV$70 -> -416.66667 | DX20: =SUM(G20:DW20) -> -44981.333
A21: =Language!A$1233 -> Проценты к уплате | C21: =Параметры!$C$70 -> тыс. руб. | E21: PL14 | F21: Mode=sum | G21: =(-Проект!G855-Старт!G112)/Параметры!G$70 -> 0 | H21: =(-Проект!H855-Старт!H112)/Параметры!H$70 -> 0 | I21: =(-Проект!I855-Старт!I112)/Параметры!I$70 -> -4560 | J21: =(-Проект!J855-Старт!J112)/Параметры!J$70 -> -4510 | K21: =(-Проект!K855-Старт!K112)/Параметры!K$70 -> -3721 | L21: =(-Проект!L855-Старт!L112)/Параметры!L$70 -> -3928 | M21: =(-Проект!M855-Старт!M112)/Параметры!M$70 -> -3914 | N21: =(-Проект!N855-Старт!N112)/Параметры!N$70 -> -3436 | ... DV21: =(-Проект!DV855-Старт!DV112)/Параметры!DV$70 -> 0 | DX21: =SUM(G21:DW21) -> -39210
A22: =Language!A1234 -> Прибыль (убыток) от операционной деятельности | C22: =Параметры!$C$70 -> тыс. руб. | E22: PL15 | F22: Mode=sum | G22: =SUM(G17,G19:G21) -> -1490.9 | H22: =SUM(H17,H19:H21) -> -847.66588 | I22: =SUM(I17,I19:I21) -> 6456.6306 | J22: =SUM(J17,J19:J21) -> 16051.974 | K22: =SUM(K17,K19:K21) -> 24192.586 | L22: =SUM(L17,L19:L21) -> 24476.677 | M22: =SUM(M17,M19:M21) -> 24986.43 | N22: =SUM(N17,N19:N21) -> 25897.472 | ... DV22: =SUM(DV17,DV19:DV21) -> 91028.843 | DX22: =SUM(G22:DW22) -> 6459175.2
F23: Skip=1
A24: =Language!A1235 -> Доходы от реализации внеоборотных активов | C24: =Параметры!$C$70 -> тыс. руб. | E24: PL16 | F24: Skip=2;Mode=sum | G24: =SUM(Проект!G670,Проект!G682,Проект!G697,Проект!G717)/Параметры!G$70 -> 0 | H24: =SUM(Проект!H670,Проект!H682,Проект!H697,Проект!H717)/Параметры!H$70 -> 0 | I24: =SUM(Проект!I670,Проект!I682,Проект!I697,Проект!I717)/Параметры!I$70 -> 0 | J24: =SUM(Проект!J670,Проект!J682,Проект!J697,Проект!J717)/Параметры!J$70 -> 0 | K24: =SUM(Проект!K670,Проект!K682,Проект!K697,Проект!K717)/Параметры!K$70 -> 0 | L24: =SUM(Проект!L670,Проект!L682,Проект!L697,Проект!L717)/Параметры!L$70 -> 0 | M24: =SUM(Проект!M670,Проект!M682,Проект!M697,Проект!M717)/Параметры!M$70 -> 0 | N24: =SUM(Проект!N670,Проект!N682,Проект!N697,Проект!N717)/Параметры!N$70 -> 0 | ... DV24: =SUM(Проект!DV670,Проект!DV682,Проект!DV697,Проект!DV717)/Параметры!DV$70 -> 0 | DX24: =SUM(G24:DW24) -> 0
A25: =Language!A1236 -> Курсовые разницы | C25: =Параметры!$C$70 -> тыс. руб. | E25: PL17 | F25: Skip=2;Mode=sum | G25: =SUM(Проект!G117,Проект!G284,Проект!G725,Проект!G762,Проект!G770,Проект!G789,Проект!G863)/Параметры!G$70 -> 0 | H25: =SUM(Проект!H117,Проект!H284,Проект!H725,Проект!H762,Проект!H770,Проект!H789,Проект!H863)/Параметры!H$70 -> -1.8189894e-11 | I25: =SUM(Проект!I117,Проект!I284,Проект!I725,Проект!I762,Проект!I770,Проект!I789,Проект!I863)/Параметры!I$70 -> -1.4551915e-11 | J25: =SUM(Проект!J117,Проект!J284,Проект!J725,Проект!J762,Проект!J770,Проект!J789,Проект!J863)/Параметры!J$70 -> -2.910383e-11 | K25: =SUM(Проект!K117,Проект!K284,Проект!K725,Проект!K762,Проект!K770,Проект!K789,Проект!K863)/Параметры!K$70 -> 5.8207661e-11 | L25: =SUM(Проект!L117,Проект!L284,Проект!L725,Проект!L762,Проект!L770,Проект!L789,Проект!L863)/Параметры!L$70 -> 0 | M25: =SUM(Проект!M117,Проект!M284,Проект!M725,Проект!M762,Проект!M770,Проект!M789,Проект!M863)/Параметры!M$70 -> 1.1641532e-10 | N25: =SUM(Проект!N117,Проект!N284,Проект!N725,Проект!N762,Проект!N770,Проект!N789,Проект!N863)/Параметры!N$70 -> 1.1641532e-10 | ... DV25: =SUM(Проект!DV117,Проект!DV284,Проект!DV725,Проект!DV762,Проект!DV770,Проект!DV789,Проект!DV863)/Параметры!DV$70 -> 0 | DX25: =SUM(G25:DW25) -> 3.7249265e-08
A26: =Language!A1237 -> Прочие доходы | C26: =Параметры!$C$70 -> тыс. руб. | E26: PL18 | F26: Skip=2;Mode=sum | G26: =SUM(Проект!G758,Проект!G766,Проект!G785,Проект!G804)/Параметры!G$70 -> 0 | H26: =SUM(Проект!H758,Проект!H766,Проект!H785,Проект!H804)/Параметры!H$70 -> 0 | I26: =SUM(Проект!I758,Проект!I766,Проект!I785,Проект!I804)/Параметры!I$70 -> 0 | J26: =SUM(Проект!J758,Проект!J766,Проект!J785,Проект!J804)/Параметры!J$70 -> 0 | K26: =SUM(Проект!K758,Проект!K766,Проект!K785,Проект!K804)/Параметры!K$70 -> 0 | L26: =SUM(Проект!L758,Проект!L766,Проект!L785,Проект!L804)/Параметры!L$70 -> 0 | M26: =SUM(Проект!M758,Проект!M766,Проект!M785,Проект!M804)/Параметры!M$70 -> 0 | N26: =SUM(Проект!N758,Проект!N766,Проект!N785,Проект!N804)/Параметры!N$70 -> 0 | ... DV26: =SUM(Проект!DV758,Проект!DV766,Проект!DV785,Проект!DV804)/Параметры!DV$70 -> 0 | DX26: =SUM(G26:DW26) -> 0
A27: =Language!A1238 -> Прочие расходы | C27: =Параметры!$C$70 -> тыс. руб. | E27: PL19 | F27: Skip=2;Mode=sum | G27: =-Проект!G807/Параметры!G$70 -> 0 | H27: =-Проект!H807/Параметры!H$70 -> 0 | I27: =-Проект!I807/Параметры!I$70 -> 0 | J27: =-Проект!J807/Параметры!J$70 -> 0 | K27: =-Проект!K807/Параметры!K$70 -> 0 | L27: =-Проект!L807/Параметры!L$70 -> 0 | M27: =-Проект!M807/Параметры!M$70 -> 0 | N27: =-Проект!N807/Параметры!N$70 -> 0 | ... DV27: =-Проект!DV807/Параметры!DV$70 -> 0 | DX27: =SUM(G27:DW27) -> 0
A28: =Language!A1239 -> Прибыль до налогообложения | C28: =Параметры!$C$70 -> тыс. руб. | E28: PL20 | F28: Mode=sum | G28: =SUM(G22:G27) -> -1490.9 | H28: =SUM(H22:H27) -> -847.66588 | I28: =SUM(I22:I27) -> 6456.6306 | J28: =SUM(J22:J27) -> 16051.974 | K28: =SUM(K22:K27) -> 24192.586 | L28: =SUM(L22:L27) -> 24476.677 | M28: =SUM(M22:M27) -> 24986.43 | N28: =SUM(N22:N27) -> 25897.472 | ... DV28: =SUM(DV22:DV27) -> 91028.843 | DX28: =SUM(G28:DW28) -> 6459175.2
A29: =Language!A1240 -> Налог на прибыль | C29: =Параметры!$C$70 -> тыс. руб. | E29: PL21 | F29: Mode=sum | G29: =-SUM(Проект!G913,Проект!G927,Проект!G932)/Параметры!G$70 -> 0 | H29: =-SUM(Проект!H913,Проект!H927,Проект!H932)/Параметры!H$70 -> 0 | I29: =-SUM(Проект!I913,Проект!I927,Проект!I932)/Параметры!I$70 -> -573.61294 | J29: =-SUM(Проект!J913,Проект!J927,Проект!J932)/Параметры!J$70 -> -3127.0614 | K29: =-SUM(Проект!K913,Проект!K927,Проект!K932)/Параметры!K$70 -> -4755.1839 | L29: =-SUM(Проект!L913,Проект!L927,Проект!L932)/Параметры!L$70 -> -4812.0021 | M29: =-SUM(Проект!M913,Проект!M927,Проект!M932)/Параметры!M$70 -> -4913.9526 | N29: =-SUM(Проект!N913,Проект!N927,Проект!N932)/Параметры!N$70 -> -5096.161 | ... DV29: =-SUM(Проект!DV913,Проект!DV927,Проект!DV932)/Параметры!DV$70 -> -18205.769 | DX29: =SUM(G29:DW29) -> -1290831.3
A30: =Language!A1241 -> Чистая прибыль (убыток) | C30: =Параметры!$C$70 -> тыс. руб. | E30: PL22 | F30: Mode=sum | G30: =SUM(G28:G29) -> -1490.9 | H30: =SUM(H28:H29) -> -847.66588 | I30: =SUM(I28:I29) -> 5883.0176 | J30: =SUM(J28:J29) -> 12924.912 | K30: =SUM(K28:K29) -> 19437.402 | L30: =SUM(L28:L29) -> 19664.675 | M30: =SUM(M28:M29) -> 20072.477 | N30: =SUM(N28:N29) -> 20801.311 | ... DV30: =SUM(DV28:DV29) -> 72823.074 | DX30: =SUM(G30:DW30) -> 5168343.9
F31: Skip=1
