Workbook

Sheet Исходные данные
A1: Исходные данные для составления финансового плана | E1: Краткое название проекта - | G1: ресторан "GO FOREST"
A2: Организационно-правовая форма: | B2: Индивидуальный предприниматель без образования юридического лица
A3: Система налогообложения: | B3: Единый налог на вмененный доход
A5: Вид деятельности: | B5: Общественное питание
A7: Статьи расходов и доходов | B7: Интервал планирования, мес.
B8: 0 | C8: 1 | D8: 2 | E8: 3 | F8: 4 | G8: 5 | H8: 6 | I8: 7 | J8: 8 | K8: 9 | L8: 10 | M8: 11 | N8: 12
A9: Источники финансирования, всего: | B9: 12000000 | C9: =SUM(C11:C14) -> 0 | D9: =SUM(D11:D14) -> 0 | E9: =SUM(E11:E14) -> 0 | F9: =SUM(F11:F14) -> 0 | G9: =SUM(G11:G14) -> 0 | H9: =SUM(H11:H14) -> 0 | I9: =SUM(I11:I14) -> 0 | J9: =SUM(J11:J14) -> 0 | ... N9: =SUM(N11:N14) -> 0
A10: в том числе:
A11: собственные средства
A12: займы, кредиты | B12: 12000000
A13: субсидии
A14: иные источники
A16: Выручка от реализации, всего: | C16: 5568000 | D16: 6566400 | E16: 8803200 | F16: 8803200 | G16: 8803200 | H16: 7814400 | I16: 8956800 | J16: 8956800 | K16: 10252800 | L16: 8956800 | M16: 8956800 | N16: 8956800
A18: Расходы:
A19: Капитальные затраты, всего: | B19: =SUM(B20:B24) -> 4883129 | C19: =SUM(C20:C22) -> 0 | D19: =SUM(D20:D22) -> 0 | E19: =SUM(E20:E22) -> 32000 | F19: =SUM(F20:F22) -> 0 | G19: =SUM(G20:G22) -> 0 | H19: =SUM(H20:H22) -> 0 | I19: =SUM(I20:I22) -> 0 | J19: =SUM(J20:J22) -> 0 | ... N19: =SUM(N20:N22) -> 0
A20: в т.ч.:
A21: Дизайн | B21: 2500000 | E21: 32000 | K21: 53000
A22: Оборудование | B22: 1500000
A23: Расходы на материалы (с НДС) | B23: 385699
A24: Зарплата наемного персонала | B24: 497430 | C24: 994860 | D24: 994860 | E24: 994860 | F24: 994860 | G24: 994860 | H24: 994860 | I24: 994860 | J24: 994860 | K24: 994860 | L24: 994860 | M24: 994860 | N24: 994860
A25: Иные переменные расходы, всего: | B25: =SUM(B26:B36) -> 3041164 | C25: =SUM(C26:C34) -> 1453564 | D25: =SUM(D26:D34) -> 1453564 | E25: =SUM(E26:E34) -> 1468564 | F25: =SUM(F26:F34) -> 1453564 | G25: =SUM(G26:G34) -> 1453564 | H25: =SUM(H26:H34) -> 1463564 | I25: =SUM(I26:I34) -> 1453564 | J25: =SUM(J26:J34) -> 1453564 | ... N25: =SUM(N26:N34) -> 1463564
A26: в т.ч.:
A27: Разработка меню | B27: 250000 | E27: 15000 | H27: 10000 | K27: 10000 | N27: 10000
A28: Закупка продуктов | B28: 275000 | C28: 200000 | D28: 200000 | E28: 200000 | F28: 200000 | G28: 200000 | H28: 200000 | I28: 200000 | J28: 200000 | K28: 200000 | L28: 200000 | M28: 200000 | N28: 200000
A29: Арендная плата | B29: 916164 | C29: 916164 | D29: 916164 | E29: 916164 | F29: 916164 | G29: 916164 | H29: 916164 | I29: 916164 | J29: 916164 | K29: 916164 | L29: 916164 | M29: 916164 | N29: 916164
A30: Хозяйственные расходы | B30: 70000 | C30: 45000 | D30: 45000 | E30: 45000 | F30: 45000 | G30: 45000 | H30: 45000 | I30: 45000 | J30: 45000 | K30: 45000 | L30: 45000 | M30: 45000 | N30: 45000
A31: Расходы на рекламу | B31: 550000 | C31: 125000 | D31: 125000 | E31: 125000 | F31: 125000 | G31: 125000 | H31: 125000 | I31: 125000 | J31: 125000 | K31: 125000 | L31: 125000 | M31: 125000 | N31: 125000
A32: Коммунальные услуги | B32: 65000 | C32: 65000 | D32: 65000 | E32: 65000 | F32: 65000 | G32: 65000 | H32: 65000 | I32: 65000 | J32: 65000 | K32: 65000 | L32: 65000 | M32: 65000 | N32: 65000
A33: Расходы на содержание транспорта | B33: 0 | C33: 2400 | D33: 2400 | E33: 2400 | F33: 2400 | G33: 2400 | H33: 2400 | I33: 2400 | J33: 2400 | K33: 2400 | L33: 2400 | M33: 2400 | N33: 2400
A34: Непредвиденные расходы 1% | B34: 100000 | C34: 100000 | D34: 100000 | E34: 100000 | F34: 100000 | G34: 100000 | H34: 100000 | I34: 100000 | J34: 100000 | K34: 100000 | L34: 100000 | M34: 100000 | N34: 100000
A35: Ремонт | B35: 315000
A36: Организационные расходы | B36: 500000 | C36: 120000 | D36: 120000 | E36: 120000 | F36: 120000 | G36: 120000 | H36: 120000 | I36: 120000 | J36: 120000 | K36: 250000 | L36: 120000 | M36: 120000 | N36: 120000
A37: Иные постоянные расходы, всего: | B37: =SUM(B38:B40) -> 0 | C37: =SUM(C38:C40) -> 0 | D37: =SUM(D38:D40) -> 0 | E37: =SUM(E38:E40) -> 0 | F37: =SUM(F38:F40) -> 0 | G37: =SUM(G38:G40) -> 0 | H37: =SUM(H38:H40) -> 0 | I37: =SUM(I38:I40) -> 0 | ... N37: =SUM(N38:N40) -> 0
A38: в т.ч.:
A41: Выплаты по кредитам, всего: | B41: =SUM(B42:B43) -> 604376 | C41: =SUM(C42:C43) -> 604376 | D41: =SUM(D42:D43) -> 604376 | E41: =SUM(E42:E43) -> 604376 | F41: =SUM(F42:F43) -> 604376 | G41: =SUM(G42:G43) -> 604376 | H41: =SUM(H42:H43) -> 604376 | I41: =SUM(I42:I43) -> 604376 | ... N41: =SUM(N42:N43) -> 604376
A42: в т.ч. погашение кредита | B42: 333333 | C42: 333333 | D42: 333333 | E42: 333333 | F42: 333333 | G42: 333333 | H42: 333333 | I42: 333333 | J42: 333333 | K42: 333333 | L42: 333333 | M42: 333333 | N42: 333333
A43: проценты по кредиту | B43: 271043 | C43: 271043 | D43: 271043 | E43: 271043 | F43: 271043 | G43: 271043 | H43: 271043 | I43: 271043 | J43: 271043 | K43: 271043 | L43: 271043 | M43: 271043 | N43: 271043
A44: Прочие расходы, всего:
F48: Предприниматель
F50: ФИО | G50: Сорокина Евгения Сергеевна
...

Sheet Финансовые результаты
B1: План финансовых результатов деятельности
A3: № пп | B3: Статьи расходов и доходов | C3: Интервал планирования, мес. | O3: ВСЕГО:
C4: 1 | D4: 2 | E4: 3 | F4: 4 | G4: 5 | H4: 6 | I4: 7 | J4: 8 | K4: 9 | L4: 10 | M4: 11 | N4: 12
A5: 1. | B5: Выручка от реализации | C5: ='Исходные данные'!B16+'Исходные данные'!C16 -> 5568000 | D5: ='Исходные данные'!D16 -> 6566400 | E5: ='Исходные данные'!E16 -> 8803200 | F5: ='Исходные данные'!F16 -> 8803200 | G5: ='Исходные данные'!G16 -> 8803200 | H5: ='Исходные данные'!H16 -> 7814400 | I5: ='Исходные данные'!I16 -> 8956800 | J5: ='Исходные данные'!J16 -> 8956800 | K5: ='Исходные данные'!K16 -> 10252800 | ... N5: ='Исходные данные'!N16 -> 8956800 | O5: =SUM(C5:N5) -> 101395200
A6: 2. | B6: Сумма единого налога без учета вычета | C6: 835200 | D6: 984960 | E6: 1320480 | F6: 1320480 | G6: 1320480 | H6: 1172160 | I6: 1343520 | J6: 1343520 | K6: 1537920 | L6: 1343520 | M6: 1343520 | N6: 1343520 | O6: =SUM(C6:N6) -> 15209280
A7: 3. | B7: Предельная сумма вычета | C7: =C6*0.5 -> 417600 | D7: =D6*0.5 -> 492480 | E7: =E6*0.5 -> 660240 | F7: =F6*0.5 -> 660240 | G7: =G6*0.5 -> 660240 | H7: =H6*0.5 -> 586080 | I7: =I6*0.5 -> 671760 | J7: =J6*0.5 -> 671760 | ... N7: =N6*0.5 -> 671760 | O7: =SUM(C7:N7) -> 7604640
A8: 4. | B8: Взносы на обязательное пенсионное страхование | C8: 198972 | D8: 198972 | E8: 198972 | F8: 198972 | G8: 198972 | H8: 198972 | I8: 198972 | J8: 198972 | K8: 198972 | L8: 198972 | M8: 198972 | N8: 198972 | O8: =SUM(C8:N8) -> 2387664
A9: 5. | B9: Единый налог на вмененный доход с учетом вычета | C9: =C6-MIN(C7,C8) -> 636228 | D9: =D6-MIN(D7,D8) -> 785988 | E9: =E6-MIN(E7,E8) -> 1121508 | F9: =F6-MIN(F7,F8) -> 1121508 | G9: =G6-MIN(G7,G8) -> 1121508 | H9: =H6-MIN(H7,H8) -> 973188 | I9: =I6-MIN(I7,I8) -> 1144548 | J9: =J6-MIN(J7,J8) -> 1144548 | ... N9: =N6-MIN(N7,N8) -> 1144548 | O9: =SUM(C9:N9) -> 12821616
A10: 6. | B10: Текущие затраты, всего: | C10: =SUM('Исходные данные'!B23,'Исходные данные'!B24,'Исходные данные'!B25,'Исходные данные'!B29,'Исходные данные'!B30,'Исходные данные'!B31,'Исходные данные'!B32,'Исходные данные'!B33,'Исходные данные'!B34,'Исходные данные'!B35,'Исходные данные'!B36,'Исходные данные'!B37,'Исходные данные'!B43,'Исходные данные'!B44)+SUM('Исходные данные'!C23,'Исходные данные'!C24,'Исходные данные'!C25,'Исходные данные'!C29,'Исходные данные'!C30,'Исходные данные'!C31,'Исходные данные'!C32,'Исходные данные'!C33,'Исходные данные'!C34,'Исходные данные'!C35,'Исходные данные'!C36,'Исходные данные'!C37,'Исходные данные'!C43,'Исходные данные'!C44) -> 10804531 | D10: =SUM('Исходные данные'!D23,'Исходные данные'!D24,'Исходные данные'!D25,'Исходные данные'!D29,'Исходные данные'!D30,'Исходные данные'!D31,'Исходные данные'!D32,'Исходные данные'!D33,'Исходные данные'!D34,'Исходные данные'!D35,'Исходные данные'!D36,'Исходные данные'!D37,'Исходные данные'!D43,'Исходные данные'!D44) -> 4093031 | E10: =SUM('Исходные данные'!E23,'Исходные данные'!E24,'Исходные данные'!E25,'Исходные данные'!E29,'Исходные данные'!E30,'Исходные данные'!E31,'Исходные данные'!E32,'Исходные данные'!E33,'Исходные данные'!E34,'Исходные данные'!E35,'Исходные данные'!E36,'Исходные данные'!E37,'Исходные данные'!E43,'Исходные данные'!E44) -> 4108031 | F10: =SUM('Исходные данные'!F23,'Исходные данные'!F24,'Исходные данные'!F25,'Исходные данные'!F29,'Исходные данные'!F30,'Исходные данные'!F31,'Исходные данные'!F32,'Исходные данные'!F33,'Исходные данные'!F34,'Исходные данные'!F35,'Исходные данные'!F36,'Исходные данные'!F37,'Исходные данные'!F43,'Исходные данные'!F44) -> 4093031 | G10: =SUM('Исходные данные'!G23,'Исходные данные'!G24,'Исходные данные'!G25,'Исходные данные'!G29,'Исходные данные'!G30,'Исходные данные'!G31,'Исходные данные'!G32,'Исходные данные'!G33,'Исходные данные'!G34,'Исходные данные'!G35,'Исходные данные'!G36,'Исходные данные'!G37,'Исходные данные'!G43,'Исходные данные'!G44) -> 4093031 | H10: =SUM('Исходные данные'!H23,'Исходные данные'!H24,'Исходные данные'!H25,'Исходные данные'!H29,'Исходные данные'!H30,'Исходные данные'!H31,'Исходные данные'!H32,'Исходные данные'!H33,'Исходные данные'!H34,'Исходные данные'!H35,'Исходные данные'!H36,'Исходные данные'!H37,'Исходные данные'!H43,'Исходные данные'!H44) -> 4103031 | I10: =SUM('Исходные данные'!I23,'Исходные данные'!I24,'Исходные данные'!I25,'Исходные данные'!I29,'Исходные данные'!I30,'Исходные данные'!I31,'Исходные данные'!I32,'Исходные данные'!I33,'Исходные данные'!I34,'Исходные данные'!I35,'Исходные данные'!I36,'Исходные данные'!I37,'Исходные данные'!I43,'Исходные данные'!I44) -> 4093031 | J10: =SUM('Исходные данные'!J23,'Исходные данные'!J24,'Исходные данные'!J25,'Исходные данные'!J29,'Исходные данные'!J30,'Исходные данные'!J31,'Исходные данные'!J32,'Исходные данные'!J33,'Исходные данные'!J34,'Исходные данные'!J35,'Исходные данные'!J36,'Исходные данные'!J37,'Исходные данные'!J43,'Исходные данные'!J44) -> 4093031 | K10: =SUM('Исходные данные'!K23,'Исходные данные'!K24,'Исходные данные'!K25,'Исходные данные'!K29,'Исходные данные'!K30,'Исходные данные'!K31,'Исходные данные'!K32,'Исходные данные'!K33,'Исходные данные'!K34,'Исходные данные'!K35,'Исходные данные'!K36,'Исходные данные'!K37,'Исходные данные'!K43,'Исходные данные'!K44) -> 4233031 | ... N10: =SUM('Исходные данные'!N23,'Исходные данные'!N24,'Исходные данные'!N25,'Исходные данные'!N29,'Исходные данные'!N30,'Исходные данные'!N31,'Исходные данные'!N32,'Исходные данные'!N33,'Исходные данные'!N34,'Исходные данные'!N35,'Исходные данные'!N36,'Исходные данные'!N37,'Исходные данные'!N43,'Исходные данные'!N44) -> 4103031 | O10: =SUM(C10:N10) -> 56002872
A11: 7. | B11: Обязательное соц.страхование от несчастных случаев 0,2% | C11: 1989.72 | D11: 1989.72 | E11: 1989.72 | F11: 1989.72 | G11: 1989.72 | H11: 1989.72 | I11: 1989.72 | J11: 1989.72 | K11: 1989.72 | L11: 1989.72 | M11: 1989.72 | N11: 1989.72 | O11: =SUM(C11:N11) -> 23876.64
A12: 8. | B12: Чистый доход (1-4-5-6-7) | C12: =C5-SUM(C8:C11) -> -6073720.7 | D12: =D5-SUM(D8:D11) -> 1486419.3 | E12: =E5-SUM(E8:E11) -> 3372699.3 | F12: =F5-SUM(F8:F11) -> 3387699.3 | G12: =G5-SUM(G8:G11) -> 3387699.3 | H12: =H5-SUM(H8:H11) -> 2537219.3 | I12: =I5-SUM(I8:I11) -> 3518259.3 | J12: =J5-SUM(J8:J11) -> 3518259.3 | ... N12: =N5-SUM(N8:N11) -> 3508259.3 | O12: =SUM(C12:N12) -> 30159171
A13: 9. | B13: То же нарастающим итогом | C13: =C12 -> -6073720.7 | D13: =C13+D12 -> -4587301.4 | E13: =D13+E12 -> -1214602.2 | F13: =E13+F12 -> 2173097.1 | G13: =F13+G12 -> 5560796.4 | H13: =G13+H12 -> 8098015.7 | I13: =H13+I12 -> 11616275 | J13: =I13+J12 -> 15134534 | K13: =J13+K12 -> 19614394 | ... N13: =M13+N12 -> 30159171
B14: Проверка окупаемости общих вложений | C14: =IF(C13>'Движение денежных средств'!$P$4,C4,0) -> 0 | D14: =IF(C14>0,C14,IF(D13>'Движение денежных средств'!$P$4,D4,0)) -> 0 | E14: =IF(D14>0,D14,IF(E13>'Движение денежных средств'!$P$4,E4,0)) -> 0 | F14: =IF(E14>0,E14,IF(F13>'Движение денежных средств'!$P$4,F4,0)) -> 0 | G14: =IF(F14>0,F14,IF(G13>'Движение денежных средств'!$P$4,G4,0)) -> 0 | H14: =IF(G14>0,G14,IF(H13>'Движение денежных средств'!$P$4,H4,0)) -> 0 | I14: =IF(H14>0,H14,IF(I13>'Движение денежных средств'!$P$4,I4,0)) -> 0 | J14: =IF(I14>0,I14,IF(J13>'Движение денежных средств'!$P$4,J4,0)) -> 8 | K14: =IF(J14>0,J14,IF(K13>'Движение денежных средств'!$P$4,K4,0)) -> 8 | ... N14: =IF(M14>0,M14,IF(N13>'Движение денежных средств'!$P$4,N4,0)) -> 8
B15: Проверка окупаемости собственных вложений | C15: =IF(C13>'Оценка эффективности проекта'!$J$39,C4,0) -> 0 | D15: =IF(C15>0,C15,IF(D13>'Оценка эффективности проекта'!$J$39,D4,0)) -> 0 | E15: =IF(D15>0,D15,IF(E13>'Оценка эффективности проекта'!$J$39,E4,0)) -> 0 | F15: =IF(E15>0,E15,IF(F13>'Оценка эффективности проекта'!$J$39,F4,0)) -> 4 | G15: =IF(F15>0,F15,IF(G13>'Оценка эффективности проекта'!$J$39,G4,0)) -> 4 | H15: =IF(G15>0,G15,IF(H13>'Оценка эффективности проекта'!$J$39,H4,0)) -> 4 | I15: =IF(H15>0,H15,IF(I13>'Оценка эффективности проекта'!$J$39,I4,0)) -> 4 | J15: =IF(I15>0,I15,IF(J13>'Оценка эффективности проекта'!$J$39,J4,0)) -> 4 | K15: =IF(J15>0,J15,IF(K13>'Оценка эффективности проекта'!$J$39,K4,0)) -> 4 | ... N15: =IF(M15>0,M15,IF(N13>'Оценка эффективности проекта'!$J$39,N4,0)) -> 4

Sheet Движение денежных средств
B1: План движения денежных средств
A2: № пп | B2: Статьи расходов и доходов | C2: 0 | D2: 1 | E2: 2 | F2: 3 | G2: 4 | H2: 5 | I2: 6 | J2: 7 | K2: 8 | L2: 9 | M2: 10 | N2: 11 | O2: 12 | P2: ВСЕГО
A3: 1. | B3: Остаток денежных средств на начало месяца | C3: 0 | D3: =C28 -> 172038 | E3: =D28 -> 1212712.3 | F3: =E28 -> 3251786.6 | G3: =F28 -> 4936936.8 | H3: =G28 -> 9212811.1 | I3: =H28 -> 13488685 | J3: =I28 -> 13549556 | K3: =J28 -> 17979030 | ... O3: =N28 -> 33171883
A4: 2. | B4: Источники финансирования (собственные средства, займы, кредиты, субсидия и т.д.) | C4: ='Исходные данные'!B9 -> 12000000 | D4: ='Исходные данные'!C9 -> 0 | E4: ='Исходные данные'!D9 -> 0 | F4: ='Исходные данные'!E9 -> 0 | G4: ='Исходные данные'!F9 -> 0 | H4: ='Исходные данные'!G9 -> 0 | I4: ='Исходные данные'!H9 -> 0 | J4: ='Исходные данные'!I9 -> 0 | ... O4: ='Исходные данные'!N9 -> 0 | P4: =SUM(C4:O4) -> 12000000
A5: 3. | B5: Поступления от реализации | C5: ='Исходные данные'!B16 -> 0 | D5: ='Исходные данные'!C16 -> 5568000 | E5: ='Исходные данные'!D16 -> 6566400 | F5: ='Исходные данные'!E16 -> 8803200 | G5: ='Исходные данные'!F16 -> 8803200 | H5: ='Исходные данные'!G16 -> 8803200 | I5: ='Исходные данные'!H16 -> 7814400 | J5: ='Исходные данные'!I16 -> 8956800 | ... O5: ='Исходные данные'!N16 -> 8956800 | P5: =SUM(C5:O5) -> 101395200
A6: 4. | B6: Итого поступления (2+3) | C6: =C4+C5 -> 12000000 | D6: =D4+D5 -> 5568000 | E6: =E4+E5 -> 6566400 | F6: =F4+F5 -> 8803200 | G6: =G4+G5 -> 8803200 | H6: =H4+H5 -> 8803200 | I6: =I4+I5 -> 7814400 | J6: =J4+J5 -> 8956800 | ... O6: =O4+O5 -> 8956800 | P6: =SUM(C6:O6) -> 113395200
A7: 5. | B7: Расходы организационного периода, всего в том числе: | C7: =SUM(C8:C9) -> 5383129 | D7: =SUM(D8:D9) -> 0 | E7: =SUM(E8:E9) -> 0 | F7: =SUM(F8:F9) -> 32000 | G7: =SUM(G8:G9) -> 0 | H7: =SUM(H8:H9) -> 0 | I7: =SUM(I8:I9) -> 0 | J7: =SUM(J8:J9) -> 0 | ... O7: =SUM(O8:O9) -> 0 | P7: =SUM(C7:O7) -> 5468129
B8: Капитальные затраты | C8: ='Исходные данные'!B19 -> 4883129 | D8: ='Исходные данные'!C19 -> 0 | E8: ='Исходные данные'!D19 -> 0 | F8: ='Исходные данные'!E19 -> 32000 | G8: ='Исходные данные'!F19 -> 0 | H8: ='Исходные данные'!G19 -> 0 | I8: ='Исходные данные'!H19 -> 0 | J8: ='Исходные данные'!I19 -> 0 | ... O8: ='Исходные данные'!N19 -> 0 | P8: =SUM(C8:O8) -> 4968129
B9: Текущие расходы организационного периода | C9: ='Исходные данные'!B36 -> 500000 | P9: =SUM(C9:O9) -> 500000
A10: 6. | B10: Переменные затраты, всего в том числе: | C10: =SUM(C11:C13) -> 3924293 | D10: =SUM(D11:D13) -> 2448424 | E10: =SUM(E11:E13) -> 2448424 | F10: =SUM(F11:F13) -> 2463424 | G10: =SUM(G11:G13) -> 2448424 | H10: =SUM(H11:H13) -> 2448424 | I10: =SUM(I11:I13) -> 2458424 | J10: =SUM(J11:J13) -> 2448424 | ... O10: =SUM(O11:O13) -> 2458424 | P10: =SUM(C10:O10) -> 33350381
B11: Закупки сырья | C11: ='Исходные данные'!B23 -> 385699 | D11: ='Исходные данные'!C23 -> 0 | E11: ='Исходные данные'!D23 -> 0 | F11: ='Исходные данные'!E23 -> 0 | G11: ='Исходные данные'!F23 -> 0 | H11: ='Исходные данные'!G23 -> 0 | I11: ='Исходные данные'!H23 -> 0 | J11: ='Исходные данные'!I23 -> 0 | ... O11: ='Исходные данные'!N23 -> 0 | P11: =SUM(C11:O11) -> 385699
B12: Зар. плата персонала | C12: ='Исходные данные'!B24 -> 497430 | D12: ='Исходные данные'!C24 -> 994860 | E12: ='Исходные данные'!D24 -> 994860 | F12: ='Исходные данные'!E24 -> 994860 | G12: ='Исходные данные'!F24 -> 994860 | H12: ='Исходные данные'!G24 -> 994860 | I12: ='Исходные данные'!H24 -> 994860 | J12: ='Исходные данные'!I24 -> 994860 | ... O12: ='Исходные данные'!N24 -> 994860 | P12: =SUM(C12:O12) -> 12435750
B13: Иные переменные расходы | C13: ='Исходные данные'!B25 -> 3041164 | D13: ='Исходные данные'!C25 -> 1453564 | E13: ='Исходные данные'!D25 -> 1453564 | F13: ='Исходные данные'!E25 -> 1468564 | G13: ='Исходные данные'!F25 -> 1453564 | H13: ='Исходные данные'!G25 -> 1453564 | I13: ='Исходные данные'!H25 -> 1463564 | J13: ='Исходные данные'!I25 -> 1453564 | ... O13: ='Исходные данные'!N25 -> 1463564 | P13: =SUM(C13:O13) -> 20528932
A14: 7. | B14: Постоянные затраты, всего в том числе: | C14: =SUM(C15:C22) -> 1916164 | D14: =SUM(D15:D22) -> 1273564 | E14: =SUM(E15:E22) -> 1273564 | F14: =SUM(F15:F22) -> 1273564 | G14: =SUM(G15:G22) -> 1273564 | H14: =SUM(H15:H22) -> 1273564 | I14: =SUM(I15:I22) -> 1273564 | J14: =SUM(J15:J22) -> 1273564 | ... O14: =SUM(O15:O22) -> 1273564 | P14: =SUM(C14:O14) -> 17328932
B15: Плата за аренду | C15: ='Исходные данные'!B29 -> 916164 | D15: ='Исходные данные'!C29 -> 916164 | E15: ='Исходные данные'!D29 -> 916164 | F15: ='Исходные данные'!E29 -> 916164 | G15: ='Исходные данные'!F29 -> 916164 | H15: ='Исходные данные'!G29 -> 916164 | I15: ='Исходные данные'!H29 -> 916164 | J15: ='Исходные данные'!I29 -> 916164 | ... O15: ='Исходные данные'!N29 -> 916164 | P15: =SUM(C15:O15) -> 11910132
B16: Хозяйственные расходы | C16: ='Исходные данные'!B30 -> 70000 | D16: ='Исходные данные'!C30 -> 45000 | E16: ='Исходные данные'!D30 -> 45000 | F16: ='Исходные данные'!E30 -> 45000 | G16: ='Исходные данные'!F30 -> 45000 | H16: ='Исходные данные'!G30 -> 45000 | I16: ='Исходные данные'!H30 -> 45000 | J16: ='Исходные данные'!I30 -> 45000 | ... O16: ='Исходные данные'!N30 -> 45000 | P16: =SUM(C16:O16) -> 610000
B17: Расходы на рекламу | C17: ='Исходные данные'!B31 -> 550000 | D17: ='Исходные данные'!C31 -> 125000 | E17: ='Исходные данные'!D31 -> 125000 | F17: ='Исходные данные'!E31 -> 125000 | G17: ='Исходные данные'!F31 -> 125000 | H17: ='Исходные данные'!G31 -> 125000 | I17: ='Исходные данные'!H31 -> 125000 | J17: ='Исходные данные'!I31 -> 125000 | ... O17: ='Исходные данные'!N31 -> 125000 | P17: =SUM(C17:O17) -> 2050000
B18: Коммунальные услуги | C18: ='Исходные данные'!B32 -> 65000 | D18: ='Исходные данные'!C32 -> 65000 | E18: ='Исходные данные'!D32 -> 65000 | F18: ='Исходные данные'!E32 -> 65000 | G18: ='Исходные данные'!F32 -> 65000 | H18: ='Исходные данные'!G32 -> 65000 | I18: ='Исходные данные'!H32 -> 65000 | J18: ='Исходные данные'!I32 -> 65000 | ... O18: ='Исходные данные'!N32 -> 65000 | P18: =SUM(C18:O18) -> 845000
B19: Транспортные расходы | C19: ='Исходные данные'!B33 -> 0 | D19: ='Исходные данные'!C33 -> 2400 | E19: ='Исходные данные'!D33 -> 2400 | F19: ='Исходные данные'!E33 -> 2400 | G19: ='Исходные данные'!F33 -> 2400 | H19: ='Исходные данные'!G33 -> 2400 | I19: ='Исходные данные'!H33 -> 2400 | J19: ='Исходные данные'!I33 -> 2400 | ... O19: ='Исходные данные'!N33 -> 2400 | P19: =SUM(C19:O19) -> 28800
B20: Ремонт | C20: ='Исходные данные'!B35 -> 315000 | D20: ='Исходные данные'!C35 -> 0 | E20: ='Исходные данные'!D35 -> 0 | F20: ='Исходные данные'!E35 -> 0 | G20: ='Исходные данные'!F35 -> 0 | H20: ='Исходные данные'!G35 -> 0 | I20: ='Исходные данные'!H35 -> 0 | J20: ='Исходные данные'!I35 -> 0 | ... O20: ='Исходные данные'!N35 -> 0 | P20: =SUM(C20:O20) -> 315000
B21: Организационные расходы | D21: ='Исходные данные'!C36 -> 120000 | E21: ='Исходные данные'!D36 -> 120000 | F21: ='Исходные данные'!E36 -> 120000 | G21: ='Исходные данные'!F36 -> 120000 | H21: ='Исходные данные'!G36 -> 120000 | I21: ='Исходные данные'!H36 -> 120000 | J21: ='Исходные данные'!I36 -> 120000 | K21: ='Исходные данные'!J36 -> 120000 | ... O21: ='Исходные данные'!N36 -> 120000 | P21: =SUM(C21:O21) -> 1570000
B22: Иные постоянные и прочие расходы | C22: ='Исходные данные'!B37+'Исходные данные'!B44 -> 0 | D22: ='Исходные данные'!C37+'Исходные данные'!C44 -> 0 | E22: ='Исходные данные'!D37+'Исходные данные'!D44 -> 0 | F22: ='Исходные данные'!E37+'Исходные данные'!E44 -> 0 | G22: ='Исходные данные'!F37+'Исходные данные'!F44 -> 0 | H22: ='Исходные данные'!G37+'Исходные данные'!G44 -> 0 | I22: ='Исходные данные'!H37+'Исходные данные'!H44 -> 0 | J22: ='Исходные данные'!I37+'Исходные данные'!I44 -> 0 | ... O22: ='Исходные данные'!N37+'Исходные данные'!N44 -> 0 | P22: =SUM(C22:O22) -> 0
A23: 8. | B23: Налоги, всего в том числе: | C23: =SUM(C24:C25) -> 0 | D23: =SUM(D24:D25) -> 200961.72 | E23: =SUM(E24:E25) -> 200961.72 | F23: =SUM(F24:F25) -> 2744685.7 | G23: =SUM(G24:G25) -> 200961.72 | H23: =SUM(H24:H25) -> 200961.72 | I23: =SUM(I24:I25) -> 3417165.7 | J23: =SUM(J24:J25) -> 200961.72 | ... O23: =SUM(O24:O25) -> 3634605.7 | P23: =SUM(C23:O23) -> 15233157
B24: Начисления на зар.плату наемного персонала | D24: ='Финансовые результаты'!C8+'Финансовые результаты'!C11 -> 200961.72 | E24: ='Финансовые результаты'!D8+'Финансовые результаты'!D11 -> 200961.72 | F24: ='Финансовые результаты'!E8+'Финансовые результаты'!E11 -> 200961.72 | G24: ='Финансовые результаты'!F8+'Финансовые результаты'!F11 -> 200961.72 | H24: ='Финансовые результаты'!G8+'Финансовые результаты'!G11 -> 200961.72 | I24: ='Финансовые результаты'!H8+'Финансовые результаты'!H11 -> 200961.72 | J24: ='Финансовые результаты'!I8+'Финансовые результаты'!I11 -> 200961.72 | K24: ='Финансовые результаты'!J8+'Финансовые результаты'!J11 -> 200961.72 | ... O24: ='Финансовые результаты'!N8+'Финансовые результаты'!N11 -> 200961.72 | P24: =SUM(C24:O24) -> 2411540.6
B25: Единый налог на вмененный доход | D25: 0 | E25: 0 | F25: =SUM('Финансовые результаты'!C9:E9) -> 2543724 | G25: 0 | H25: 0 | I25: =SUM('Финансовые результаты'!F9:H9) -> 3216204 | J25: 0 | K25: 0 | L25: =SUM('Финансовые результаты'!I9:K9) -> 3628044 | M25: 0 | N25: 0 | O25: =SUM('Финансовые результаты'!L9:N9) -> 3433644 | P25: =SUM(C25:O25) -> 12821616
A26: 9. | B26: Выплаты по кредитам и займам | C26: ='Исходные данные'!B41 -> 604376 | D26: ='Исходные данные'!C41 -> 604376 | E26: ='Исходные данные'!D41 -> 604376 | F26: ='Исходные данные'!E41 -> 604376 | G26: ='Исходные данные'!F41 -> 604376 | H26: ='Исходные данные'!G41 -> 604376 | I26: ='Исходные данные'!H41 -> 604376 | J26: ='Исходные данные'!I41 -> 604376 | ... O26: ='Исходные данные'!N41 -> 604376 | P26: =SUM(C26:O26) -> 7856888
A27: 10. | B27: Всего расходов (5+6+7+8+9) | C27: =SUM(C7,C10,C14,C23,C26) -> 11827962 | D27: =SUM(D7,D10,D14,D23,D26) -> 4527325.7 | E27: =SUM(E7,E10,E14,E23,E26) -> 4527325.7 | F27: =SUM(F7,F10,F14,F23,F26) -> 7118049.7 | G27: =SUM(G7,G10,G14,G23,G26) -> 4527325.7 | H27: =SUM(H7,H10,H14,H23,H26) -> 4527325.7 | I27: =SUM(I7,I10,I14,I23,I26) -> 7753529.7 | J27: =SUM(J7,J10,J14,J23,J26) -> 4527325.7 | ... O27: =SUM(O7,O10,O14,O23,O26) -> 7970969.7 | P27: =SUM(C27:O27) -> 79237487
A28: 11. | B28: Остаток денежных средств на конец месяца (1+4-10) | C28: =C3+C6-C27 -> 172038 | D28: =D3+D6-D27 -> 1212712.3 | E28: =E3+E6-E27 -> 3251786.6 | F28: =F3+F6-F27 -> 4936936.8 | G28: =G3+G6-G27 -> 9212811.1 | H28: =H3+H6-H27 -> 13488685 | I28: =I3+I6-I27 -> 13549556 | J28: =J3+J6-J27 -> 17979030 | ... O28: =O3+O6-O27 -> 34157713

Sheet Оценка эффективности проекта
B36: Показатели финансовой состоятельности и экономической эффективности проекта:
B38: Сумма чистой прибыли за первый год деятельности предприятия (руб.) | J38: ='Финансовые результаты'!O12 -> 30159171
B39: Сумма вложений собственных средств (руб) | J39: =SUM('Исходные данные'!B11:N11) -> 0
B40: Рентабельность продукции (прибыль:затраты) (%) | J40: =IF('Финансовые результаты'!O12=0,"-",'Финансовые результаты'!O12/'Финансовые результаты'!O10) -> 0.53852901
B41: Рентабельность общих вложений (прибыль:общая сумма финансирования) (%) | J41: =IF('Финансовые результаты'!O12=0,"-",'Финансовые результаты'!O12/'Движение денежных средств'!P4) -> 2.5132643
B42: Срок окупаемости общих вложений (мес.) | J42: ='Финансовые результаты'!N14 -> 8 | K42: мес.
B43: Рентабельность вложений собственных средств (прибыль:сумма вложений собственных средств) (%) | J43: =IF(J39=0,"-",J38/J39) -> -
B44: Срок окупаемости вложений собственных средств (мес.) | J44: =IF(J43="-",0,'Финансовые результаты'!N15) -> 0 | K44: мес.
